BEGIN:VCALENDAR
VERSION:2.0
PRODID:-//ChamberMaster//Event Calendar 2.0//EN
METHOD:PUBLISH
X-PUBLISHED-TTL:P3D
REFRESH-INTERVAL:P3D
CALSCALE:GREGORIAN
BEGIN:VEVENT
DTSTART:20181206T013000Z
DTEND:20181206T033000Z
X-MICROSOFT-CDO-ALLDAYEVENT:FALSE
SUMMARY:People for Housing OC - Friends & Fundraiser
DESCRIPTION:The OC YIMBY is hosting a Friends & Fundraiser to benefit People for Housing OC.
X-ALT-DESC;FMTTYPE=text/html:<div class="_63ew" data-testid="event-permalink-details">The OC YIMBY&nbsp\;is hosting a Friends &amp\; Fundraiser to benefit&nbsp\;People for Housing OC.</div>\n
LOCATION:Offices of BIA/OC 24 Executive Park\, Suite 100 Irvine\, CA 92614
UID:e.887.22847
SEQUENCE:3
DTSTAMP:20260422T115057Z
URL:https://business.nocchamber.com/events/details/people-for-housing-oc-friends-fundraiser-22847
END:VEVENT

END:VCALENDAR
