BEGIN:VCALENDAR
VERSION:2.0
PRODID:-//ChamberMaster//Event Calendar 2.0//EN
METHOD:PUBLISH
X-PUBLISHED-TTL:P3D
REFRESH-INTERVAL:P3D
CALSCALE:GREGORIAN
BEGIN:VEVENT
DTSTART:20190208T014500Z
DTEND:20190208T050000Z
X-MICROSOFT-CDO-ALLDAYEVENT:FALSE
SUMMARY:Pathways of Hope - Look Who's Dancing
DESCRIPTION:Pathways of Hope: Look Who's Dancing competition with nine prominent members of the Fullerton community to end hunger and homelessness: \n\n	Kim Barlow\n	Ray Fernandez\n	Pam Keller\n	Rick Mendez\n	Debra Pember\n	Jeanette Reese\n	DiAnna Tait\n	Kristin Wilson\n	Rabbi Nico Socolvsky
X-ALT-DESC;FMTTYPE=text/html:<strong>Pathways of Hope: Look Who&#39\;s Dancing</strong> competition with nine prominent members of the Fullerton community to end hunger and homelessness:&nbsp\;\n<ul>\n	<li><a href="https://www.pohoc.org/kims-dancing/">Kim Barlow</a></li>\n	<li><a href="https://www.pohoc.org/rays-dancing/">Ray Fernandez</a></li>\n	<li><a href="https://www.pohoc.org/pams-dancing/">Pam Keller</a></li>\n	<li><a href="https://www.pohoc.org/ricks-dancing/">Rick Mendez</a></li>\n	<li><a href="https://www.pohoc.org/debras-dancing/">Debra Pember</a></li>\n	<li><a href="https://www.pohoc.org/Jeanettes-dancing/">Jeanette Reese</a></li>\n	<li><a href="https://www.pohoc.org/diannas-dancing/">DiAnna Tait</a></li>\n	<li><a href="https://www.pohoc.org/kristins-dancing/">Kristin Wilson</a></li>\n	<li><a href="https://www.pohoc.org/nicos-dancing/">Rabbi Nico Socolvsky</a></li>\n</ul>\n
LOCATION:Fullerton College Campus Theater 321 E. Chapman Ave. Fullerton CA 92832
UID:e.887.22926
SEQUENCE:3
DTSTAMP:20260422T093430Z
URL:https://business.nocchamber.com/events/details/pathways-of-hope-look-who-s-dancing-22926
END:VEVENT

END:VCALENDAR
