BEGIN:VCALENDAR
VERSION:2.0
PRODID:-//ChamberMaster//Event Calendar 2.0//EN
METHOD:PUBLISH
X-PUBLISHED-TTL:P3D
REFRESH-INTERVAL:P3D
CALSCALE:GREGORIAN
BEGIN:VEVENT
DTSTART:20190517T011500Z
DTEND:20190517T033000Z
X-MICROSOFT-CDO-ALLDAYEVENT:FALSE
SUMMARY:Pathways of Hope - Harmony for Hope: A Dueling Piano Show
DESCRIPTION:Enjoy a complimentary hot dog and hamburger buffet and cash bar. Sing along as two pianists play song requests from every era in every style.\n\n\n\nThis event will benefit the thousands of struggling families and individuals who seek help and hope at the Pathways for Hope door each year.
X-ALT-DESC;FMTTYPE=text/html:Enjoy a complimentary hot dog and hamburger buffet and cash bar. Sing along as two pianists play song requests from every era in every style.<br />\n<br />\nThis event will benefit the thousands of struggling families and individuals who seek help and hope at the Pathways for Hope door each year.
LOCATION:HIghway 39 Event Center 1563 S. State College Blvd. Anaheim\, CA 92806
UID:e.887.23112
SEQUENCE:3
DTSTAMP:20260422T053843Z
URL:https://business.nocchamber.com/events/details/pathways-of-hope-harmony-for-hope-a-dueling-piano-show-23112
END:VEVENT

END:VCALENDAR
