BEGIN:VCALENDAR
VERSION:2.0
PRODID:-//ChamberMaster//Event Calendar 2.0//EN
METHOD:PUBLISH
X-PUBLISHED-TTL:P3D
REFRESH-INTERVAL:P3D
CALSCALE:GREGORIAN
BEGIN:VEVENT
DTSTART:20190922T234500Z
DTEND:20190923T023000Z
X-MICROSOFT-CDO-ALLDAYEVENT:FALSE
SUMMARY:Pathways of Hope Fundraiser at Angelo's and Vinci's
DESCRIPTION:Come and join Angelo's & Vinci's fundraiser in 2019! You will enjoy live music\, dinner and drinks\, a silent auction and opportunity games at this lovely Fullerton restaurant.\n\nEvery September\, Pathways of Hope partners with Angelo's & Vinci's Ristorante to host a fundraiser to support struggling people in our community. Thanks to the inspiring generosity of Angelo's & Vinci's owner Cynthia Peck and her late husband\, Steven Peck\, Pathways has held this fundraiser for 27 amazing years.\n\n\n\nYou can sponsor our Angelo's & Vinci's fundraiser to make an even greater difference in the lives of our neighbors in need. All sponsors receive reserved seating at the event and recognition in Pathways' media.\n\n\n\nThere is some exciting new fun planned for this year's event   click here to learn how you can help end hunger and homelessness AND win an awesome prize.\n\nEvery single sponsor\, donor\, and guest makes a difference in the lives of people who are struggling and seeking hope.\n\nThank you for your interest in supporting our community's most vulnerable residents at Angelo's & Vinci's.
X-ALT-DESC;FMTTYPE=text/html:<p>Come and join Angelo&rsquo\;s &amp\; Vinci&rsquo\;s fundraiser in 2019! You will enjoy live music\, dinner and drinks\, a silent auction and opportunity games at this lovely Fullerton restaurant.</p>\n\n<p>Every September\, Pathways of Hope partners with Angelo&rsquo\;s &amp\; Vinci&rsquo\;s Ristorante to host a fundraiser to support struggling people in our community. Thanks to the inspiring generosity of Angelo&rsquo\;s &amp\; Vinci&rsquo\;s owner Cynthia Peck and her late husband\, Steven Peck\, Pathways has held this fundraiser for 27 amazing years.<br />\n<br />\n<a href="https://www.pohoc.org/avdinner/" rel="noopener noreferrer" target="_blank">You can sponsor our Angelo&rsquo\;s &amp\; Vinci&rsquo\;s fundraiser&nbsp\;</a>to make an even greater difference in the lives of our neighbors in need. All sponsors receive reserved seating at the event and recognition in Pathways&rsquo\; media.<br />\n<br />\nThere is some exciting new fun planned for this year&rsquo\;s event &mdash\;&nbsp\;<a href="https://www.pohoc.org/opportunitysquares/" rel="noopener noreferrer" target="_blank">click here to learn how you can help end hunger and homelessness AND win an awesome prize</a>.</p>\n\n<p>Every single sponsor\, donor\, and guest makes a difference in the lives of people who are struggling and seeking hope.</p>\n\n<p>Thank you for your interest in supporting our community&rsquo\;s most vulnerable residents at Angelo&rsquo\;s &amp\; Vinci&rsquo\;s.</p>\n
LOCATION:Angelo's & Vinci's Ristorante 550 N Harbor Blvd Fullerton\, CA 92832
UID:e.887.23675
SEQUENCE:3
DTSTAMP:20260422T002118Z
URL:https://business.nocchamber.com/events/details/pathways-of-hope-fundraiser-at-angelo-s-and-vinci-s-23675
END:VEVENT

END:VCALENDAR
