BEGIN:VCALENDAR
VERSION:2.0
PRODID:-//ChamberMaster//Event Calendar 2.0//EN
METHOD:PUBLISH
X-PUBLISHED-TTL:P3D
REFRESH-INTERVAL:P3D
CALSCALE:GREGORIAN
BEGIN:VEVENT
DTSTART:20170608T000000Z
DTEND:20170608T020000Z
X-MICROSOFT-CDO-ALLDAYEVENT:FALSE
SUMMARY:Pacific Community Credit Union After Hours
DESCRIPTION:Pacific Community Credit Union invites you to join them for their Annual Sunset Mixer at their Corporate Office! Celebrate local businesses with food\, friends and fun. This event will include food and beverages provided by Pacific Community\, Raffle Prizes and a Tropical Attire Contest - The best tropical attire will win fun prizes!
X-ALT-DESC;FMTTYPE=text/html:Pacific Community Credit Union invites you to join them for their Annual Sunset Mixer at their Corporate Office! Celebrate local businesses with food\, friends and fun. This event will include food and beverages provided by Pacific Community\, Raffle Prizes and a Tropical Attire Contest - The best tropical attire will win fun prizes!&nbsp\;
LOCATION:Pacific Community Credit Union Corporate Office 401 Imperial Hwy Fullerton\, CA 92832
UID:e.887.16143
SEQUENCE:3
DTSTAMP:20260421T014735Z
URL:https://business.nocchamber.com/events/details/pacific-community-credit-union-after-hours-16143
END:VEVENT

END:VCALENDAR
