BEGIN:VCALENDAR
VERSION:2.0
PRODID:-//ChamberMaster//Event Calendar 2.0//EN
METHOD:PUBLISH
X-PUBLISHED-TTL:P3D
REFRESH-INTERVAL:P3D
CALSCALE:GREGORIAN
BEGIN:VEVENT
DTSTART:20181113T153000Z
DTEND:20181113T160000Z
X-MICROSOFT-CDO-ALLDAYEVENT:FALSE
SUMMARY:Pacific Advisors - "Good Morning" Tuesday - Coffee & Donuts: Avoiding Retirement Risks
DESCRIPTION:Sergey Molkov\, Retirement Income Certified Professional RICP\, is holding a complimentary community event program on Avoiding Retirement Risks: \n\n	Procedures in advanced planning\n	Avoiding common pitfalls
X-ALT-DESC;FMTTYPE=text/html:Sergey Molkov\, Retirement Income Certified Professional RICP\, is holding a complimentary community event program on Avoiding Retirement Risks:&nbsp\;\n<ul>\n	<li>Procedures in advanced planning</li>\n	<li>Avoiding common pitfalls</li>\n</ul>\n
LOCATION:350 East Commonwealth Ave. Fullerton\, CA 92832
UID:e.887.22826
SEQUENCE:3
DTSTAMP:20260422T125122Z
URL:https://business.nocchamber.com/events/details/pacific-advisors-good-morning-tuesday-coffee-donuts-avoiding-retirement-risks-22826
END:VEVENT

END:VCALENDAR
