BEGIN:VCALENDAR
VERSION:2.0
PRODID:-//ChamberMaster//Event Calendar 2.0//EN
METHOD:PUBLISH
X-PUBLISHED-TTL:P3D
REFRESH-INTERVAL:P3D
CALSCALE:GREGORIAN
BEGIN:VEVENT
DTSTART:20200225T020000Z
DTEND:20200225T043000Z
X-MICROSOFT-CDO-ALLDAYEVENT:FALSE
SUMMARY:Orange: SCORE Workshop - How to Perfect the Elevator Pitch
DESCRIPTION:Learn the tricks to creating your opening statements and creating excitement. This workshop will help you to create your exceptional and unique attention getting Elevator Pitch. \n\n* How To Get Attention \n\n* Get Potential Clients Asking Questions\n\n* Variety Of Opening Statements\n\n* Learn How The Pros Do It\n\n* Help In Developing Your Pitch\n\n* Learn To Develop Confidence\n\n  \n\nBarry Mc Kinley of SCORE has started\, owned & operated 10 different companies in 5 different industries. He sold each of the companies to investors\, employees and competitors including Fortune 1000 companies. With his vast experience he has been involved in all segments of business\, from hiring\, financing to sales and promotions\, and has counseled over 2\,100 SCORE clients.
X-ALT-DESC;FMTTYPE=text/html:Learn the tricks to creating your opening statements and creating excitement. This workshop will help you to create your exceptional and unique attention getting Elevator Pitch.&nbsp\;<br />\n* How To Get Attention&nbsp\;<br />\n* Get Potential Clients Asking Questions<br />\n* Variety Of Opening Statements<br />\n* Learn How The Pros Do It<br />\n* Help In Developing Your Pitch<br />\n* Learn To Develop Confidence<br />\n&nbsp\;&nbsp\;<br />\n<strong>Barry Mc Kinley of SCORE</strong>&nbsp\;has started\, owned &amp\; operated 10 different companies in 5 different industries. He sold each of the companies to investors\, employees and competitors including Fortune 1000 companies. With his vast experience he has been involved in all segments of business\, from hiring\, financing to sales and promotions\, and has counseled over 2\,100 SCORE clients.
LOCATION:Orange Public Library (Greenfield) 407 E. Chapman Ave. Orange\, CA 92866
UID:e.887.24104
SEQUENCE:3
DTSTAMP:20260421T191453Z
URL:https://business.nocchamber.com/events/details/orange-score-workshop-how-to-perfect-the-elevator-pitch-24104
END:VEVENT

END:VCALENDAR
