BEGIN:VCALENDAR
VERSION:2.0
PRODID:-//ChamberMaster//Event Calendar 2.0//EN
METHOD:PUBLISH
X-PUBLISHED-TTL:P3D
REFRESH-INTERVAL:P3D
CALSCALE:GREGORIAN
BEGIN:VEVENT
DTSTART:20180329T010000Z
DTEND:20180329T020000Z
X-MICROSOFT-CDO-ALLDAYEVENT:FALSE
SUMMARY:Orange County Sanitation District Public Hearing
DESCRIPTION:A public hearing is being held in regards to Orange County Sanitation District's (OCSD) new proposed fees.\n\n\n\nIn order to cover costs of projected inspections\, repairs\, operations\, maintenance\, debt services\, and reserves required for OCSD's regional collection and treatment system\, a rate increase has been proposed. Property owners within OCSD's service areas pay for these services via regional sewer service fees and other sources of income such as property tax revenues. More information on the how the rates are set can be found at www.ocsd.com.\n\n\n\nIndividuals owning property within the sewer service area may show their support or protest at the public hearing.
X-ALT-DESC;FMTTYPE=text/html:A public hearing is being held in regards to&nbsp\;Orange County&nbsp\;Sanitation&nbsp\;District&#39\;s (OCSD) new proposed fees.<br />\n<br />\nIn order to cover costs of projected inspections\, repairs\, operations\, maintenance\, debt services\, and reserves required for OCSD&#39\;s&nbsp\;regional collection and treatment system\, a rate increase has been proposed. Property owners within OCSD&#39\;s&nbsp\;service areas pay for these services via regional sewer service fees and other sources of income such as property tax revenues. More information on the how the rates are set can be found at <a href="https://www.ocsd.com/" target="_blank">www.ocsd.com</a>.<br />\n<br />\nIndividuals owning property within the sewer service area&nbsp\;may show their support or protest at the public hearing.
LOCATION:10844 Ellis Avenue Fountain Valley\, CA 92708
UID:e.887.17751
SEQUENCE:3
DTSTAMP:20260422T002551Z
URL:https://business.nocchamber.com/events/details/orange-county-sanitation-district-public-hearing-17751
END:VEVENT

END:VCALENDAR
