BEGIN:VCALENDAR
VERSION:2.0
PRODID:-//ChamberMaster//Event Calendar 2.0//EN
METHOD:PUBLISH
X-PUBLISHED-TTL:P3D
REFRESH-INTERVAL:P3D
CALSCALE:GREGORIAN
BEGIN:VEVENT
DTSTART:20180414T170000Z
DTEND:20180414T230000Z
X-MICROSOFT-CDO-ALLDAYEVENT:FALSE
SUMMARY:Orange County Recovery Collaboration Resource Fair
DESCRIPTION:The Orange County Recovery Collaborative exists to eliminate barriers and connect resources to those suffering from substance abuse. This is an addiction resource fair for the whole family addressing prevention\, education\, resources\, and services. There will be booths\, guest speakers\, workshops\, and education sessions throughout the day. Assessments will be available for those seeking services.
X-ALT-DESC;FMTTYPE=text/html:<p>The Orange County Recovery Collaborative exists to eliminate barriers and connect resources to those suffering from substance abuse. This&nbsp\;is an addiction resource fair for the whole family addressing prevention\, education\, resources\, and services. There will be booths\, guest speakers\, workshops\, and education sessions throughout the day. Assessments will be available for those seeking services.&nbsp\;</p>\n
LOCATION:1515 W. North St. Anaheim\, CA 92801
UID:e.887.18235
SEQUENCE:3
DTSTAMP:20260422T004735Z
URL:https://business.nocchamber.com/events/details/orange-county-recovery-collaboration-resource-fair-18235
END:VEVENT

END:VCALENDAR
