BEGIN:VCALENDAR
VERSION:2.0
PRODID:-//ChamberMaster//Event Calendar 2.0//EN
METHOD:PUBLISH
X-PUBLISHED-TTL:P3D
REFRESH-INTERVAL:P3D
CALSCALE:GREGORIAN
BEGIN:VEVENT
DTSTART:20190520T153000Z
DTEND:20190520T173000Z
X-MICROSOFT-CDO-ALLDAYEVENT:FALSE
SUMMARY:Orange County IT Sector Partnership Roundtable
DESCRIPTION:The IT sector is continually evolving\, creating challenges for businesses in finding skilled talent\, staying at the leading edge of technology innovations\, and many other topics. IT professionals are invited to participate in the launch of the Orange County IT Sector Partnership to collaborate with IT and community organizations and partner companies to navigate these demands. Through collaboration\, a clear set of priorities and an effective course of action can be established. \n\n\n\nUnderstanding the value of like-minded business leaders\, you are invited to participate in the launch of the Orange County IT Sector Partnership to work on these important issues. This network will provide an arena to set priorities and take direct action\, rather than rely on the public sector or approach it alone.\n\n\n\nThe intention of this launch is to emerge from this meeting with a clear set of priorities and a course of action. Partners in the community such as workforce and economic development\, education\, chambers of commerce\, and others will be in attendance to better understand how they can collaboratively and strategically meet your business' needs.
X-ALT-DESC;FMTTYPE=text/html:The IT sector is continually evolving\, creating challenges for businesses in finding skilled talent\, staying at the leading edge of technology innovations\, and many other topics. IT professionals are invited to participate in the launch of the Orange County IT Sector Partnership to collaborate with IT and community organizations and partner companies to navigate these demands. Through collaboration\, a clear set of priorities and an effective course of action can be established.&nbsp\;<br />\n<br />\nUnderstanding the value of like-minded business leaders\, you are invited to participate in the launch of the Orange County IT Sector Partnership to work on these important issues. This network will provide an arena to set priorities and take direct action\, rather than rely on the public sector or approach it alone.<br />\n<br />\nThe intention of this launch is to emerge from this meeting with a clear set of priorities and a course of action. Partners in the community such as workforce and economic development\, education\, chambers of commerce\, and others will be in attendance to better understand how they can collaboratively and strategically meet your business&#39\; needs.
LOCATION:Greater Irvine Chamber of Commerce Training Room 36 Executive Park\, Suite 100 Irvine\, CA 92614
UID:e.887.23313
SEQUENCE:3
DTSTAMP:20260422T053644Z
URL:https://business.nocchamber.com/events/details/orange-county-it-sector-partnership-roundtable-23313
END:VEVENT

END:VCALENDAR
