BEGIN:VCALENDAR
VERSION:2.0
PRODID:-//ChamberMaster//Event Calendar 2.0//EN
METHOD:PUBLISH
X-PUBLISHED-TTL:P3D
REFRESH-INTERVAL:P3D
CALSCALE:GREGORIAN
BEGIN:VEVENT
DTSTART:20191017T183000Z
DTEND:20191017T210000Z
X-MICROSOFT-CDO-ALLDAYEVENT:FALSE
SUMMARY:Orange County Conservation Corps 25th Anniversary Celebration
DESCRIPTION:This year's event will feature KABC's Phillip Palmer as Master of Ceremonies. The event will also include a silent auction\, luncheon\, and program including a recap of the organization's first 25 years. \n\nSponsorships are currently available\, starting at $1\,000. \n\nTo download the sponsorship packet\, please click here.  \n\nRegistration for individual tickets will open in late August.
X-ALT-DESC;FMTTYPE=text/html:<p>This year&#39\;s event will feature KABC&#39\;s&nbsp\;Phillip Palmer&nbsp\;as Master of Ceremonies. The event will also include a silent auction\, luncheon\, and program including&nbsp\;a recap of the organization&#39\;s first 25 years.&nbsp\;</p>\n\n<p>Sponsorships are currently available\, starting at $1\,000.&nbsp\;</p>\n\n<p>To download the sponsorship packet\, please&nbsp\;<a data-auth="NotApplicable" href="http://r20.rs6.net/tn.jsp?f=001krbIPwNmy0d-DqU7TM2WypjIuDm952F4ks9B72av2EoFCF-zoVrjjJnqypwF4HiL7C4wWomKgscqsDmwV85Y8jdj1plbo3IM7QyC4SzNQNrHXimHfIcIxq5Oak1wtbfdr-CEy-gMr4gKT4Wzuo8kJnQ66eBDgGIik3qBEKh4LGRHoYxpIzgVh6Y51IImvfxReT5UdAsHH7aMwU56Ww8HagMla81kM0cNEkt54Omco_Stc-ZhzXYCVkKdqLZkSvEA&amp\;c=letvh08GWQR9fAz6zHUM39YmlHeUZsThnUZETbSKJWla0ZVkuKCF4A==&amp\;ch=_xqOvSZVs_oivlhpXiLhaPLUpNtsJkW418xqPlVvAQlgwPt7WjqGZA==" rel="noopener noreferrer" target="_blank" title="undefined">click here</a>.&nbsp\;&nbsp\;</p>\n\n<p>Registration for individual tickets will open in late August.</p>\n
LOCATION:Disney's Grand Californian Hotel 1600 Disneyland Drive Anaheim\, CA 92802
UID:e.887.23436
SEQUENCE:3
DTSTAMP:20260422T001327Z
URL:https://business.nocchamber.com/events/details/orange-county-conservation-corps-25th-anniversary-celebration-23436
END:VEVENT

END:VCALENDAR
