BEGIN:VCALENDAR
VERSION:2.0
PRODID:-//ChamberMaster//Event Calendar 2.0//EN
METHOD:PUBLISH
X-PUBLISHED-TTL:P3D
REFRESH-INTERVAL:P3D
CALSCALE:GREGORIAN
BEGIN:VEVENT
DTSTART:20190809T190000Z
DTEND:20190809T203000Z
X-MICROSOFT-CDO-ALLDAYEVENT:FALSE
SUMMARY:Orange County Business Luncheon
DESCRIPTION:Reform California convenes monthly issue briefings for business leaders to alert them to emerging threats to the business climate in our state. This month?s briefing addresses frivolous and costly lawsuits being filed against businesses across the California under the predatory Private Attorney General Act (PAGA) Law. Find out what PAGA is\, what you need to do to avoid a PAGA claim\, and how PAGA is fighting to repeal this mandate.
X-ALT-DESC;FMTTYPE=text/html:<p>Reform California convenes monthly issue briefings for business leaders to alert them to emerging threats to the business climate in our state. This month?s briefing addresses frivolous and costly lawsuits being filed against businesses across the California under the predatory Private Attorney General Act (PAGA) Law. Find out what PAGA is\, what you need to do to avoid a PAGA claim\, and how PAGA is&nbsp\;fighting to repeal this mandate.&nbsp\;</p>\n
LOCATION:17872 Cowan Ave. Irvine\, CA 92614
UID:e.887.23616
SEQUENCE:3
DTSTAMP:20260422T015318Z
URL:https://business.nocchamber.com/events/details/orange-county-business-luncheon-23616
END:VEVENT

END:VCALENDAR
