BEGIN:VCALENDAR
VERSION:2.0
PRODID:-//ChamberMaster//Event Calendar 2.0//EN
METHOD:PUBLISH
X-PUBLISHED-TTL:P3D
REFRESH-INTERVAL:P3D
CALSCALE:GREGORIAN
BEGIN:VEVENT
DTSTART:20170720T190000Z
DTEND:20170720T210000Z
X-MICROSOFT-CDO-ALLDAYEVENT:FALSE
SUMMARY:Open House hosted by the Salvation Army
DESCRIPTION:The Salvation Army Adult Rehabilitation Center invites you to come have lunch\, network with others in your field\, and hear how to partner with us this year that is sure to be a blessing to you and your clients.
X-ALT-DESC;FMTTYPE=text/html:The Salvation Army Adult Rehabilitation Center invites you to come have lunch\, network with others in your field\, and hear how to partner with us this year that is sure to be a blessing to you and your clients.&nbsp\;
LOCATION:The Salvation Army 1300 S. Lewis St. Anaheim CA 92805
UID:e.887.16167
SEQUENCE:3
DTSTAMP:20260421T003010Z
URL:https://business.nocchamber.com/events/details/open-house-hosted-by-the-salvation-army-16167
END:VEVENT

END:VCALENDAR
