BEGIN:VCALENDAR
VERSION:2.0
PRODID:-//ChamberMaster//Event Calendar 2.0//EN
METHOD:PUBLISH
X-PUBLISHED-TTL:P3D
REFRESH-INTERVAL:P3D
CALSCALE:GREGORIAN
BEGIN:VEVENT
DTSTART:20200313T200000Z
DTEND:20200313T210000Z
X-MICROSOFT-CDO-ALLDAYEVENT:FALSE
SUMMARY:Online: Statewide Updates for California Small Businesses
DESCRIPTION:As new developments continue unfolding around the spread of COVID-19\, many employers have questions about implications in the workplace. \n\n\n\nJoin Small Business Majority\, Go-Biz\, Employment Development Department (EDD) and Small Business Development Centers (SBDC) for a statewide webinar covering policy updates related to COVID-19. Learn about what the State of California and Governor Newsom are implementing to ensure public safety.\n\n\n\nTopics of discussion:\n\n\n	Guidance on mass gatherings statewide\n	EDD guidance for businesses to apply for Unemployment Insurance work-sharing programs if a business is experiencing a slowdown in their businesses or services\n	Small Business Development Center updates including SBA Disaster Assistance Loans\n	Healthcare updates for Medi-Cal an Covered California\n	An overview of California's Paid Family Leave program which is accessible to workers affected by COVID-19\n	Resources \n	Q&A
X-ALT-DESC;FMTTYPE=text/html:<p>As new developments continue unfolding around the spread of COVID-19\, many employers have questions about implications in the workplace.&nbsp\;<br />\n<br />\nJoin&nbsp\;Small Business Majority\,&nbsp\;Go-Biz\, Employment Development Department (EDD) and Small Business Development Centers (SBDC)&nbsp\;for a statewide webinar covering policy updates related to COVID-19. Learn about what the State of California and Governor Newsom are implementing to ensure public safety.<br />\n<br />\nTopics of discussion:</p>\n\n<ul type="disc">\n	<li>Guidance on mass gatherings statewide</li>\n	<li>EDD guidance for businesses to apply for Unemployment Insurance work-sharing programs if a business is experiencing a slowdown in their businesses or services</li>\n	<li>Small Business Development Center updates including SBA Disaster Assistance Loans</li>\n	<li>Healthcare updates for Medi-Cal an&nbsp\;Covered California</li>\n	<li>An overview of California&rsquo\;s Paid Family Leave program which is accessible to workers affected by COVID-19</li>\n	<li>Resources&nbsp\;</li>\n	<li>Q&amp\;A&nbsp\;</li>\n</ul>\n
LOCATION:Online
UID:e.887.24260
SEQUENCE:3
DTSTAMP:20260421T165317Z
URL:https://business.nocchamber.com/events/details/online-statewide-updates-for-california-small-businesses-24260
END:VEVENT

END:VCALENDAR
