BEGIN:VCALENDAR
VERSION:2.0
PRODID:-//ChamberMaster//Event Calendar 2.0//EN
METHOD:PUBLISH
X-PUBLISHED-TTL:P3D
REFRESH-INTERVAL:P3D
CALSCALE:GREGORIAN
BEGIN:VEVENT
DTSTART:20200227T160000Z
DTEND:20200227T170000Z
X-MICROSOFT-CDO-ALLDAYEVENT:FALSE
SUMMARY:Online - International Trade Webinar: Export Opportunities in the Middle East
DESCRIPTION:The Middle East is full of market opportunities including U.S. Free Trade Agreements with five countries of the region. U.S. products are in high demand but companies need to be cautious. This one-hour webinar will cover key tips to selling into the region\, avoiding pitfalls and taking advantage of selling duty-free with FTAs.
X-ALT-DESC;FMTTYPE=text/html:The Middle East is full of market opportunities including U.S. Free Trade Agreements with five countries of the region. U.S. products are in high demand but companies need to be cautious. This one-hour webinar will cover key tips to selling into the region\, avoiding pitfalls and taking advantage of selling duty-free with FTAs.
LOCATION:Online
UID:e.887.24118
SEQUENCE:3
DTSTAMP:20260421T181220Z
URL:https://business.nocchamber.com/events/details/online-international-trade-webinar-export-opportunities-in-the-middle-east-24118
END:VEVENT

END:VCALENDAR
