BEGIN:VCALENDAR
VERSION:2.0
PRODID:-//ChamberMaster//Event Calendar 2.0//EN
METHOD:PUBLISH
X-PUBLISHED-TTL:P3D
REFRESH-INTERVAL:P3D
CALSCALE:GREGORIAN
BEGIN:VEVENT
DTSTART:20200225T160000Z
DTEND:20200225T170000Z
X-MICROSOFT-CDO-ALLDAYEVENT:FALSE
SUMMARY:Online - International Trade Finance: Getting Paid
DESCRIPTION:The World Trade Research Institute is hosting an hour-long webinar discussing the range of payment methods used in international transactions to reduce risk. The information will help business owners evaluate which method is best for their business\, as well as explain how to take advantage of U.S. government support for exporters through export credit insurance and loan guarantees.
X-ALT-DESC;FMTTYPE=text/html:The World Trade Research Institute is hosting an hour-long webinar discussing the range of payment methods used in international transactions to reduce risk. The information will help business owners evaluate which method is best for their business\, as well as explain how to take advantage of U.S. government support for exporters through export credit insurance and loan guarantees.
LOCATION:Online
UID:e.887.24119
SEQUENCE:3
DTSTAMP:20260421T181018Z
URL:https://business.nocchamber.com/events/details/online-international-trade-finance-getting-paid-24119
END:VEVENT

END:VCALENDAR
