BEGIN:VCALENDAR
VERSION:2.0
PRODID:-//ChamberMaster//Event Calendar 2.0//EN
METHOD:PUBLISH
X-PUBLISHED-TTL:P3D
REFRESH-INTERVAL:P3D
CALSCALE:GREGORIAN
BEGIN:VEVENT
DTSTART:20200325T220000Z
DTEND:20200325T223000Z
X-MICROSOFT-CDO-ALLDAYEVENT:FALSE
SUMMARY:Online Class: Boffo Video - How to Start a Podcast on a Budget with Paul Santiago
DESCRIPTION:Podcasting is becoming a mainstream marketing and communication tool for businesses\, with the potential to make significant contributions to the bottom line. It is a powerful\, inexpensive and easy new medium for sharing your message with a focused and passionate audience. As a podcaster you'll become a recognized expert in your area of interest or expertise.\n\nHave you been thinking of podcasting but don't know where to start? Paul Santiago will teach you the cheapest way possible to get started on your podcast journey.He will talk about the software that's available\, the hardware options that you can immediately use\, and where to upload it for the world to hear\, followed by a quick Q&A.\n\n\n\nClick here to register.
X-ALT-DESC;FMTTYPE=text/html:<p>Podcasting is becoming a mainstream marketing and communication tool for businesses\, with the potential to make significant contributions to the bottom line. It&nbsp\;is a powerful\, inexpensive and easy new medium for sharing your message with a focused and passionate audience. As a podcaster you&#39\;ll become a recognized expert in your area of interest or expertise.</p>\n\n<p>Have you been thinking of podcasting but don&#39\;t know where to start?&nbsp\;Paul Santiago will&nbsp\;teach you the cheapest way possible to get started on your podcast journey.He will talk about the software that&#39\;s available\, the hardware options that you can immediately use\, and where to upload it for the world to hear\, followed by a quick Q&amp\;A.<br />\n<br />\n<a href="https://www.eventbrite.com/e/how-to-start-a-podcast-on-a-budget-with-paul-santiago-tickets-100854659000?ref=enivte001&amp\;invite=MTk0MjY2NzAvc2FyYWhAbm9jY2hhbWJlci5jb20vMA%3D%3D%0A&amp\;utm_source=eb_email&amp\;utm_medium=email&amp\;utm_campaign=invitemodernv2&amp\;ref=enivte001&amp\;utm_term=attend" target="_blank">Click here to register.</a></p>\n
LOCATION:Online Click here to register.
UID:e.887.24265
SEQUENCE:3
DTSTAMP:20260421T165304Z
URL:https://business.nocchamber.com/events/details/online-class-boffo-video-how-to-start-a-podcast-on-a-budget-with-paul-santiago-24265
END:VEVENT

END:VCALENDAR
