BEGIN:VCALENDAR
VERSION:2.0
PRODID:-//ChamberMaster//Event Calendar 2.0//EN
METHOD:PUBLISH
X-PUBLISHED-TTL:P3D
REFRESH-INTERVAL:P3D
CALSCALE:GREGORIAN
BEGIN:VEVENT
DTSTART:20180314T003000Z
DTEND:20180314T030000Z
X-MICROSOFT-CDO-ALLDAYEVENT:FALSE
SUMMARY:One-Minute Manager’ Author to Speak March 13 at Nixon Library
DESCRIPTION:Ken Blanchard\, author of the bestseller "The One Minute Manager\," is the featured speaker for the March 13 Cal State Fullerton Center for Family Business Hall of Fame induction ceremony.\n\n\n\nThe event will honor four Southern California-based and family-owned companies. One honoree is recognized in each of four categories: excellence in the community\, strength in succession\, maintaining and honoring the founder's vision and commitment to education.  \n\n\n\nBlanchard has sold more than 13 million copies of "The One Minute Manager" and penned 59 other books. He is co-founder and chief spiritual officer of The Ken Blanchard Companies\, an international management training and consulting firm that he and his wife\, Marjorie\, launched in San Diego 40 years ago.\n\n \n\n"Dr. Blanchard's message of steward leadership should resonate with our family business leaders\," said Ed Hart\, director of the Center for Family Business. "So much of what our Hall of Fame inductees\, past and upcoming\, have in common is the value and commitment to great leadership\, and truly understanding their stewardship over the businesses\, families and employees."
X-ALT-DESC;FMTTYPE=text/html:Ken Blanchard\, author of the bestseller &ldquo\;The One Minute Manager\,&rdquo\; is the featured speaker for the March 13 Cal State Fullerton Center for Family Business Hall of Fame induction ceremony.<br />\n<br />\nThe event will honor four Southern California-based and family-owned companies. One honoree is recognized in each of four categories: excellence in the community\, strength in succession\, maintaining and honoring the founder&rsquo\;s vision and commitment to education.&nbsp\;&nbsp\;<br />\n<br />\nBlanchard has sold more than 13 million copies of &ldquo\;The One Minute Manager&rdquo\; and penned 59 other books. He is co-founder and chief spiritual officer of The Ken Blanchard Companies\, an international management training and consulting firm that he and his wife\, Marjorie\, launched in San Diego 40 years ago.<br />\n&nbsp\;<br />\n&ldquo\;Dr. Blanchard&rsquo\;s message of steward leadership should resonate with our family business leaders\,&rdquo\; said Ed Hart\, director of the <a href="https://business.fullerton.edu/Center/FamilyBusiness" target="_blank">Center for Family Business</a>. &ldquo\;So much of what our Hall of Fame inductees\, past and upcoming\, have in common is the value and commitment to great leadership\, and truly understanding their stewardship over the businesses\, families and employees.&rdquo\;<br />\n&nbsp\;
LOCATION:Richard Nixon Presidential Library and Birthplace 18001 Yorba Linda Blvd Yorba Linda\, CA 92886
UID:e.887.17485
SEQUENCE:3
DTSTAMP:20260422T003030Z
URL:https://business.nocchamber.com/events/details/one-minute-manager-author-to-speak-march-13-at-nixon-library-17485
END:VEVENT

END:VCALENDAR
