BEGIN:VCALENDAR
VERSION:2.0
PRODID:-//ChamberMaster//Event Calendar 2.0//EN
METHOD:PUBLISH
X-PUBLISHED-TTL:P3D
REFRESH-INTERVAL:P3D
CALSCALE:GREGORIAN
BEGIN:VEVENT
DTSTART:20191024T230000Z
DTEND:20191025T033000Z
X-MICROSOFT-CDO-ALLDAYEVENT:FALSE
SUMMARY:Oktoboofest
DESCRIPTION:A Fullerton Market special event perfect for the whole family. \n\n\n\nTo celebrate Halloween festivities\, there will be free arts & crafts\, a pre-decorated pumpkin contest\, trick-or-treating and more. Be sure to come to this free event.
X-ALT-DESC;FMTTYPE=text/html:A Fullerton Market special event perfect for the whole family.&nbsp\;<br />\n<br />\nTo celebrate Halloween festivities\, there will be free arts &amp\; crafts\, a pre-decorated pumpkin contest\, trick-or-treating and more. Be sure to come to this free event.
LOCATION:Parks and Recreation 301 N Pomona Ave\, Fullerton\, CA 92832
UID:e.887.23761
SEQUENCE:3
DTSTAMP:20260422T000622Z
URL:https://business.nocchamber.com/events/details/oktoboofest-23761
END:VEVENT

END:VCALENDAR
