BEGIN:VCALENDAR
VERSION:2.0
PRODID:-//ChamberMaster//Event Calendar 2.0//EN
METHOD:PUBLISH
X-PUBLISHED-TTL:P3D
REFRESH-INTERVAL:P3D
CALSCALE:GREGORIAN
BEGIN:VEVENT
DTSTART:20170623T000000Z
DTEND:20170623T030000Z
X-MICROSOFT-CDO-ALLDAYEVENT:FALSE
SUMMARY:Office Hours with Executive Coach Dave Kinnear
DESCRIPTION:Join CSUF Startup Incubator Mentors as they answer questions about what it takes to be an entrepreneur. Business Advisor\, Mentor and Executive Leader Coach Dave Kinnear offers free advice for those who have questions on working in a startup.
X-ALT-DESC;FMTTYPE=text/html:Join CSUF&nbsp\;Startup Incubator Mentors as they answer questions about what it takes to be an entrepreneur. Business Advisor\, Mentor and Executive Leader Coach Dave Kinnear&nbsp\;offers free advice for those who have questions on working in a startup.&nbsp\;
LOCATION:CSUF Startup Incubator 120 S Bradford Ave Placentia\, CA 92870
UID:e.887.16223
SEQUENCE:3
DTSTAMP:20260421T014736Z
URL:https://business.nocchamber.com/events/details/office-hours-with-executive-coach-dave-kinnear-16223
END:VEVENT

END:VCALENDAR
