BEGIN:VCALENDAR
VERSION:2.0
PRODID:-//ChamberMaster//Event Calendar 2.0//EN
METHOD:PUBLISH
X-PUBLISHED-TTL:P3D
REFRESH-INTERVAL:P3D
CALSCALE:GREGORIAN
BEGIN:VEVENT
DTSTART:20181212T013000Z
DTEND:20181212T033000Z
X-MICROSOFT-CDO-ALLDAYEVENT:FALSE
SUMMARY:OCTA - SR-91 Public Hearing
DESCRIPTION:Learn about the State Route 91 (SR-91) Improvement Project\, a proposed project to increase capacity\, improve operations and help relieve congestion on both westbound and eastbound SR-91 between the SR-57 and SR-55 within the project area.\n\n\n\nThe Orange County Transportation Authority (OCTA) and California Department of Transportation District\n\n12 (Caltrans) have initiated a proposed project to address current and future mobility needs. As part of the project approval and environmental document process\, a no-build and a potential build alternative are being considered\, and potential effects the project may have on the environment have been studied.\n\n\n\nJoin OCTA and Caltrans at the public hearing to learn about the project\, review the study results\, view exibit boards\, receive one-on-one updates and submit comments before an alternative is recommended and approved.
X-ALT-DESC;FMTTYPE=text/html:Learn about the State Route 91 (SR-91) Improvement Project\, a proposed project to increase capacity\, improve operations and help relieve congestion on both westbound and eastbound SR-91 between the SR-57 and SR-55 within the project area.<br />\n<br />\nThe Orange County Transportation Authority (OCTA) and California Department of Transportation District<br />\n12 (Caltrans) have initiated a proposed project to address current and future mobility needs. As part of the project approval and environmental document process\, a no-build and a potential build alternative are being considered\, and potential effects the project may have on the environment have been studied.<br />\n<br />\nJoin OCTA and Caltrans at the public hearing to learn about the project\, review the study results\, view exibit boards\, receive&nbsp\;one-on-one updates and submit comments before an alternative is recommended and approved.
LOCATION:Rio Vista Elementary School 310 North Rio Vista Street Anaheim\, CA 92806
UID:e.887.22890
SEQUENCE:3
DTSTAMP:20260422T114013Z
URL:https://business.nocchamber.com/events/details/octa-sr-91-public-hearing-22890
END:VEVENT

END:VCALENDAR
