BEGIN:VCALENDAR
VERSION:2.0
PRODID:-//ChamberMaster//Event Calendar 2.0//EN
METHOD:PUBLISH
X-PUBLISHED-TTL:P3D
REFRESH-INTERVAL:P3D
CALSCALE:GREGORIAN
BEGIN:VEVENT
DTSTART:20190630T160000Z
DTEND:20190630T170000Z
X-MICROSOFT-CDO-ALLDAYEVENT:FALSE
SUMMARY:OCTA Equestrian Ride
DESCRIPTION:Hosted by Orange County Transportation Authority (OCTA)\, the equestrian ride will take place on the Trabuco Rose Preserve\, which is permanently protected. The rides are docent led and are group rides. Registration is required to participate. Participants must be 12 years and over. All riders must sign a liability waiver and minors must be accompanied by a parent or guardian.\n\n\n\nSpace is limited. Please visit www.preservingourlegacy.org to learn more details about the individual equestrian rides and hikes or contact Marissa Espino at mespino@octa.net or 714.560.5607.
X-ALT-DESC;FMTTYPE=text/html:Hosted by Orange County Transportation Authority (OCTA)\, the equestrian ride will take place on the Trabuco Rose Preserve\, which is permanently protected. The rides are docent led and are group rides. Registration is required to participate. Participants must be 12 years and over. All riders must sign a liability waiver and minors must be accompanied by a parent or guardian.<br />\n<br />\nSpace is limited. Please visit&nbsp\;<a data-auth="NotApplicable" href="https://click.email-octa.net/?qs=52597b52194590844903c62d82adbc256df39dab3b734e9434cc6fa85da586727d2a3b489b4921d2d87582afa794a8f8" rel="noopener noreferrer" target="_blank">www.preservingourlegacy.org</a>&nbsp\;to learn more details about the individual equestrian rides and hikes or contact Marissa Espino at&nbsp\;<a data-auth="NotApplicable" href="mailto:mespino@octa.net" rel="noopener noreferrer" target="_blank">mespino@octa.net</a>&nbsp\;or&nbsp\;714.560.5607.
LOCATION:Trabuco Rose Preserve\, Trabuco Canyon
UID:e.887.23415
SEQUENCE:3
DTSTAMP:20260422T053150Z
URL:https://business.nocchamber.com/events/details/octa-equestrian-ride-23415
END:VEVENT

END:VCALENDAR
