BEGIN:VCALENDAR
VERSION:2.0
PRODID:-//ChamberMaster//Event Calendar 2.0//EN
METHOD:PUBLISH
X-PUBLISHED-TTL:P3D
REFRESH-INTERVAL:P3D
CALSCALE:GREGORIAN
BEGIN:VEVENT
DTSTART:20190710T153000Z
DTEND:20190710T173000Z
X-MICROSOFT-CDO-ALLDAYEVENT:FALSE
SUMMARY:OCBC's 2019-20 OC Housing Scorecard to be Released July 10
DESCRIPTION:Orange County Business Council's 2019-20 Housing Scorecard will be released July 10 at its Workforce Housing Forum\, updating data from 2015.\n\n\n\nThe 2019-20 Scorecard examines Orange County at a crucial time in the regional and state housing markets\, analyzing long-term trends behind recent headlines. The Scorecard is critical for county stakeholders\, elected officials and business leaders to see how their city compares with others and what the future holds.\n\n\n\nA copy of the report will be provided to all attendees. Attendees will also hear from a panel of experts on current building challenges and what it means for business at the event.\n\n\n\nRegister today to secure your spot! To learn more or inquire about sponsorship opportunities\, contact Lauren Martin\, OCBC's Events Manager. \n\n\n\nClick here to view flyer.
X-ALT-DESC;FMTTYPE=text/html:Orange County Business Council&#39\;s 2019-20 Housing Scorecard will be released July 10 at its Workforce Housing Forum\, updating data from 2015.<br />\n<br />\nThe 2019-20 Scorecard examines Orange County at a crucial time in the regional and state housing markets\, analyzing long-term trends behind recent headlines. The Scorecard is critical for county stakeholders\, elected officials and business leaders to see how their city compares with others and what the future holds.<br />\n<br />\nA copy of the report will be provided to all attendees. Attendees will also hear from a panel of experts on current building challenges&nbsp\;and what it means for business at the event.<br />\n<br />\n<a data-auth="NotApplicable" href="http://r20.rs6.net/tn.jsp?f=001_xusTrjh77dxg-SGYzYdM3npQ6MNMtg-yu7OhLyNGz8ESd_1eE4Ub7Bfn7VexFcXcKFM7IXDV1U9o2F8d37l-_lpLK5SulRG6MdoXg_qfrf2Da01uNo7pY9_ZFZOKj5A24aGjKE0aM5nsZV1jPoLsLimyI8lxkadsXUAgufxo9fupWRVfIHVD1wZ-FWIV_CFcVg6lJc2-WiS9aM9dbaxTWP779zLjWYz&amp\;c=7n9I8V9_ywZw95dkfG6lRuVQIoBFJZiuF6-CyTq-5ZptSqp1FdD5UA==&amp\;ch=gZ14mXT47CWX-J8u0yRvGy-cI365jCPjJCSR3ouNLNSy3yLUdY2Lzg==" rel="noopener noreferrer" target="_blank">Register today to secure your spot!</a>&nbsp\;To learn more or inquire about sponsorship opportunities\, contact&nbsp\;<a data-auth="NotApplicable" href="mailto:lmartin@ocbc.org" rel="noopener noreferrer" target="_blank">Lauren Martin</a>\, OCBC&#39\;s Events Manager.&nbsp\;<br />\n<br />\n<a href="https://www.ocbc.org/wp-content/uploads/2019/04/2019-Housing-Forum-Flier.pdf" target="_blank">Click here to view flyer.</a>
LOCATION:Irvine Barclay Theatre 4242 Campus Dr. Irvine\, CA 92612
UID:e.887.23426
SEQUENCE:3
DTSTAMP:20260422T030504Z
URL:https://business.nocchamber.com/events/details/ocbc-s-2019-20-oc-housing-scorecard-to-be-released-july-10-23426
END:VEVENT

END:VCALENDAR
