BEGIN:VCALENDAR
VERSION:2.0
PRODID:-//ChamberMaster//Event Calendar 2.0//EN
METHOD:PUBLISH
X-PUBLISHED-TTL:P3D
REFRESH-INTERVAL:P3D
CALSCALE:GREGORIAN
BEGIN:VEVENT
DTSTART:20190913T010000Z
DTEND:20190913T040000Z
X-MICROSOFT-CDO-ALLDAYEVENT:FALSE
SUMMARY:OCAPICA - Tastemakers of Orange County
DESCRIPTION:Tastemakers of Orange County is an annual fundraiser event for the nonprofit\, OCAPICA. Created by a group of chefs dedicated to helping the community\, this event brings the best in Asian and Pacific Islander inspired food and drink.\n\nSeptember 12th\, 2019\n\nat Segerstrom Center for the Arts\, Julianne & George Argyros Plaza\n\n7 PM - 9 PM (6 PM Early VIP entry)\n\nParking available for $12 flat rate at venue\n\n$95 General Admission\n\n$135 VIP (entry one hour earlier than General Admission\, access to a VIP only area on stage\, and a VIP gift bag)\n\n\n\n\n\n2019 Tastemaker Chefs + Restaurants\n\nTAKASHI ABE & TED LEE | Bluefin\n\nBILL BRACKEN | Bracken's Kitchen\n\nIVAN CALDERON | Taco Mesa + Taco Rosa\n\nLEONARD CHAN | Shuck Oyster Bar\n\nLISA DANG | Brodards\n\nGREG DANIELS | Harley Laguna Beach\n\nIHAB ELANNA | Little Arabia\n\nTHE GAVI A FAMILY | Gavi a Coffee\n\nJAMES HAMAMORI | Hamamori\n\nBRIAN HUSKEY | Tackle Box\n\nRUMI KAMASAWA and BRUCE CHOI | S'wich Bistro\n\nDEAN KIM | OC Baking Company\n\nED LEE | Wahoos Fish Tacos\n\nSHACHI MEHRA | Adya\n\nSANDRO NARDONE | Bello\n\nDEE NGUYEN | Break of Dawn\n\nKRISTIN NGUYEN | Garlic and Chives\n\nSONNY NGUYEN | 7 Leaves Cafe\n\nJOHN PARK | Toast Kitchen + Bakery\n\nHENRY PINEDA | Modern Filipino Kitchen by Aysee\n\nSHELLY REGISTER | A Market\n\nAMAR SANTANA | Broadway by Amar Santana + Vaca\n\nMAX SCHLUTZ | Sessions West Coast Deli\n\nRAINER SCHWARZ | Driftwood Kitchen + Hendrix\n\nTARIT TANJASIRI | Crema Cafe + Crema Artisan Bakers\n\nALLAN TEA | Hello Kitty Caf \n\n\n\n\n\nDrinks provided by:\n\nUnion Wine Co.\n\nGavi a Coffee\n\n7 Leaves\n\nFirestone Walker 805\n\nLagunitas Brewing Company\n\n\n\n\n\nMusic & Entertainment by:\n\nDJ\n\nJOEY QUENGA | Island Block\n\nJUSTIN and DUY NGUYEN-AMIGO | Infinite Dyad\n\n\n\n\n\nSilent Auction\n\nOpportunity Drawing
X-ALT-DESC;FMTTYPE=text/html:<p>Tastemakers of Orange County is an annual fundraiser event for the nonprofit\, OCAPICA. Created by a group of chefs dedicated to helping the community\, this event brings the best in Asian and Pacific Islander inspired food and drink.</p>\n\n<p>September 12th\, 2019<br />\nat Segerstrom Center for the Arts\, Julianne &amp\; George Argyros Plaza<br />\n7 PM - 9 PM (6 PM Early VIP entry)<br />\nParking available for $12 flat rate at venue<br />\n$95 General Admission<br />\n$135 VIP (entry one hour earlier than General Admission\, access to a VIP only area on stage\, and a VIP gift bag)<br />\n<br />\n<br />\n2019 Tastemaker Chefs + Restaurants<br />\nTAKASHI ABE &amp\; TED LEE | Bluefin<br />\nBILL BRACKEN | Bracken&rsquo\;s Kitchen<br />\nIVAN CALDERON | Taco Mesa + Taco Rosa<br />\nLEONARD CHAN | Shuck Oyster Bar<br />\nLISA DANG | Brodards<br />\nGREG DANIELS | Harley Laguna Beach<br />\nIHAB ELANNA | Little Arabia<br />\nTHE GAVI&Ntilde\;A FAMILY | Gavi&ntilde\;a Coffee<br />\nJAMES HAMAMORI | Hamamori<br />\nBRIAN HUSKEY | Tackle Box<br />\nRUMI KAMASAWA and BRUCE CHOI | S&#39\;wich Bistro<br />\nDEAN KIM | OC Baking Company<br />\nED LEE | Wahoos Fish Tacos<br />\nSHACHI MEHRA | Adya<br />\nSANDRO NARDONE | Bello<br />\nDEE NGUYEN | Break of Dawn<br />\nKRISTIN NGUYEN | Garlic and Chives<br />\nSONNY NGUYEN | 7 Leaves Cafe<br />\nJOHN PARK | Toast Kitchen + Bakery<br />\nHENRY PINEDA | Modern Filipino Kitchen by Aysee<br />\nSHELLY REGISTER | A Market<br />\nAMAR SANTANA | Broadway by Amar Santana + Vaca<br />\nMAX SCHLUTZ | Sessions West Coast Deli<br />\nRAINER SCHWARZ | Driftwood Kitchen + Hendrix<br />\nTARIT TANJASIRI | Crema Cafe + Crema Artisan Bakers<br />\nALLAN TEA | Hello Kitty Caf&eacute\;<br />\n<br />\n<br />\nDrinks provided by:<br />\nUnion Wine Co.<br />\nGavi&ntilde\;a Coffee<br />\n7 Leaves<br />\nFirestone Walker 805<br />\nLagunitas Brewing Company<br />\n<br />\n<br />\nMusic &amp\; Entertainment by:<br />\nDJ<br />\nJOEY QUENGA | Island Block<br />\nJUSTIN and DUY NGUYEN-AMIGO | Infinite Dyad<br />\n<br />\n<br />\nSilent Auction<br />\nOpportunity Drawing</p>\n
LOCATION:Segerstrom Center for the Arts - Argyros Plaza 600 Town Center Drive Costa Mesa\, CA 92626
UID:e.887.23687
SEQUENCE:3
DTSTAMP:20260422T002230Z
URL:https://business.nocchamber.com/events/details/ocapica-tastemakers-of-orange-county-23687
END:VEVENT

END:VCALENDAR
