BEGIN:VCALENDAR
VERSION:2.0
PRODID:-//ChamberMaster//Event Calendar 2.0//EN
METHOD:PUBLISH
X-PUBLISHED-TTL:P3D
REFRESH-INTERVAL:P3D
CALSCALE:GREGORIAN
BEGIN:VEVENT
DTSTART:20190531T143000Z
DTEND:20190531T203000Z
X-MICROSOFT-CDO-ALLDAYEVENT:FALSE
SUMMARY:OC Water Summit
DESCRIPTION:Join nearly 400 business professionals\, elected officials\, water industry experts\, and scholars for the 12th Annual OC Water Summit as we focus on the many facets of water management and take a closer look at the challenges and competing interests shaping local\, state\, national\, and international water supplies.
X-ALT-DESC;FMTTYPE=text/html:Join nearly 400 business professionals\, elected officials\, water industry experts\, and scholars for the 12th Annual OC Water Summit as we focus on the many facets of water management and take a closer look at the challenges and competing interests shaping local\, state\, national\, and international water supplies.
LOCATION:Grand Californian Hotel & Spa 1600 Disneyland Drive Anaheim\, CA 92802
UID:e.887.23061
SEQUENCE:3
DTSTAMP:20260422T053102Z
URL:https://business.nocchamber.com/events/details/oc-water-summit-23061
END:VEVENT

END:VCALENDAR
