BEGIN:VCALENDAR
VERSION:2.0
PRODID:-//ChamberMaster//Event Calendar 2.0//EN
METHOD:PUBLISH
X-PUBLISHED-TTL:P3D
REFRESH-INTERVAL:P3D
CALSCALE:GREGORIAN
BEGIN:VEVENT
DTSTART:20181103T133000Z
DTEND:20181103T190000Z
X-MICROSOFT-CDO-ALLDAYEVENT:FALSE
SUMMARY:OC United Partners with Rotary for Second Annual Pumpkin Run
DESCRIPTION:Join OC United for a 5k\, family-friendly\, costumed\, walk-run on the Fullerton Trails. Proceeds will go to under-resourced families and children in Fullerton.\n\n\n\nA post-race party will be held at Fullerton High School Stadium with more fall festivities.
X-ALT-DESC;FMTTYPE=text/html:Join OC United for a 5k\, family-friendly\, costumed\, walk-run on the Fullerton Trails. Proceeds will go to under-resourced families and children in Fullerton.<br />\n<br />\nA post-race party will be held at Fullerton High School Stadium with more fall festivities.
LOCATION:Juanita Cooke & Hilscher Trails Park at the North Ornage County Courthouse 1275 N Berkeley Ave. Fullerton\, CA 92832
UID:e.887.22690
SEQUENCE:3
DTSTAMP:20260422T131316Z
URL:https://business.nocchamber.com/events/details/oc-united-partners-with-rotary-for-second-annual-pumpkin-run-22690
END:VEVENT

END:VCALENDAR
