BEGIN:VCALENDAR
VERSION:2.0
PRODID:-//ChamberMaster//Event Calendar 2.0//EN
METHOD:PUBLISH
X-PUBLISHED-TTL:P3D
REFRESH-INTERVAL:P3D
CALSCALE:GREGORIAN
BEGIN:VEVENT
DTSTART:20191019T000000Z
DTEND:20191019T060000Z
X-MICROSOFT-CDO-ALLDAYEVENT:FALSE
SUMMARY:OC Japan Fair
DESCRIPTION:Celebrate one of the largest Japanese cultural festivals in Southern California! Enjoy the experience of shopping\, tasting\, and learning about Japanese culture. There will also be live performance\, games\, Kimono models and more!!
X-ALT-DESC;FMTTYPE=text/html:Celebrate one of the largest Japanese cultural festivals in Southern California! Enjoy the experience of shopping\, tasting\, and learning about Japanese culture. There will also be live performance\, games\, Kimono models and more!!
LOCATION:OC Fair & Event Center 88 Fair Dr. Costa Mesa\, CA 92626
UID:e.887.23725
SEQUENCE:3
DTSTAMP:20260421T225323Z
URL:https://business.nocchamber.com/events/details/oc-japan-fair-23725
END:VEVENT

END:VCALENDAR
