BEGIN:VCALENDAR
VERSION:2.0
PRODID:-//ChamberMaster//Event Calendar 2.0//EN
METHOD:PUBLISH
X-PUBLISHED-TTL:P3D
REFRESH-INTERVAL:P3D
CALSCALE:GREGORIAN
BEGIN:VEVENT
DTSTART:20181206T193000Z
DTEND:20181206T223000Z
X-MICROSOFT-CDO-ALLDAYEVENT:FALSE
SUMMARY:OC Forum - 2018 Midterm Election Recap
DESCRIPTION:OC Forum 2018 - 2018 Midterm Election Recap: \n\n	Sen. Tom Campbell - Chapman University\, School of Law\n	Hon. Jim Gray - (Ret.) Judge\, Orange County Superior Court\n	Hon. Loretta Sanchez - Former US House of Representatives
X-ALT-DESC;FMTTYPE=text/html:OC Forum 2018 - 2018 Midterm Election Recap:&nbsp\;\n<ul>\n	<li>Sen. Tom Campbell - Chapman University\, School of Law</li>\n	<li>Hon. Jim Gray - (Ret.) Judge\, Orange County Superior Court</li>\n	<li>Hon. Loretta Sanchez - Former US House of Representatives&nbsp\;</li>\n</ul>\n
LOCATION:The Pacific Club 4110 MacArthur Blvd. Newport Beach\, CA 92660
UID:e.887.22878
SEQUENCE:3
DTSTAMP:20260422T114157Z
URL:https://business.nocchamber.com/events/details/oc-forum-2018-midterm-election-recap-22878
END:VEVENT

END:VCALENDAR
