BEGIN:VCALENDAR
VERSION:2.0
PRODID:-//ChamberMaster//Event Calendar 2.0//EN
METHOD:PUBLISH
X-PUBLISHED-TTL:P3D
REFRESH-INTERVAL:P3D
CALSCALE:GREGORIAN
BEGIN:VEVENT
DTSTART:20181205T193000Z
DTEND:20181206T213000Z
X-MICROSOFT-CDO-ALLDAYEVENT:FALSE
SUMMARY:OC Forum - 2018 Midterm Election Recap
DESCRIPTION:The OC Forum hosts a 2018 Midterm Election Recap.
X-ALT-DESC;FMTTYPE=text/html:The OC Forum hosts a 2018 Midterm Election Recap.
LOCATION:The Pacific Club 4110 MacArthur Blvd. Newport Beach\, CA 92660
UID:e.887.22855
SEQUENCE:3
DTSTAMP:20260422T114013Z
URL:https://business.nocchamber.com/events/details/oc-forum-2018-midterm-election-recap-22855
END:VEVENT

END:VCALENDAR
