BEGIN:VCALENDAR
VERSION:2.0
PRODID:-//ChamberMaster//Event Calendar 2.0//EN
METHOD:PUBLISH
X-PUBLISHED-TTL:P3D
REFRESH-INTERVAL:P3D
CALSCALE:GREGORIAN
BEGIN:VEVENT
DTSTART:20190712T190000Z
DTEND:20190712T210000Z
X-MICROSOFT-CDO-ALLDAYEVENT:FALSE
SUMMARY:OC Division General Membership Meeting
DESCRIPTION:Join your fellow city elected officials\, city managers and city staff for the Orange County Division's General Membership meeting on Friday\, July 12\, in City of Fullerton's Library and Conference Center.\n\n\n\nThe Division will host Assemblywoman Sharon Quirk-Silva as our keynote speaker. Assemblywoman Quirk-Silva will be addressing Division membership on critical issues including homelessness and the Fairview project in Costa Mesa\, the State Budget and impacts to Orange County\, and recycling issues impacting the local government sector and potential state solutions. Receive updates on these important topics\, and bring forward your city's priorities to one of Orange County's most influential State Legislators.\n\n\n\nRegistration (free for Division Members)   Elected officials\, city managers and city staff are all welcome to attend the Division's General Membership meeting. Lunch will be provided.\n\n\n\nTo register\, email the individual's name\, title and city to Tony C rdenas. If you have any questions\, please contact Tony directly at (714) 944-4023.
X-ALT-DESC;FMTTYPE=text/html:Join your fellow city elected officials\, city managers and city staff for the Orange County Division&rsquo\;s General Membership meeting on Friday\, July 12\, in City of Fullerton&rsquo\;s Library and Conference Center.<br />\n<br />\nThe Division will host Assemblywoman Sharon Quirk-Silva as our keynote speaker. Assemblywoman Quirk-Silva will be addressing Division membership on critical issues including homelessness and the Fairview project in Costa Mesa\, the State Budget and impacts to Orange County\, and recycling issues impacting the local government sector and potential state solutions. Receive updates on these important topics\, and bring forward your city&rsquo\;s priorities to one of Orange County&rsquo\;s most influential State Legislators.<br />\n<br />\nRegistration (free for Division Members) &ndash\; Elected officials\, city managers and city staff are all welcome to attend the Division&rsquo\;s General Membership meeting. Lunch will be provided.<br />\n<br />\nTo register\, email the individual&rsquo\;s name\, title and city to <a href="mailto:tcardenas@cacities.org">Tony C&aacute\;rdenas</a>. If you have any questions\, please contact Tony directly at (714) 944-4023.
LOCATION:Fullerton Library Conference Center 353 W. Commonwealth Ave. Fullerton\, CA 92832
UID:e.887.23409
SEQUENCE:3
DTSTAMP:20260422T030231Z
URL:https://business.nocchamber.com/events/details/oc-division-general-membership-meeting-23409
END:VEVENT

END:VCALENDAR
