BEGIN:VCALENDAR
VERSION:2.0
PRODID:-//ChamberMaster//Event Calendar 2.0//EN
METHOD:PUBLISH
X-PUBLISHED-TTL:P3D
REFRESH-INTERVAL:P3D
CALSCALE:GREGORIAN
BEGIN:VEVENT
DTSTART:20200116T220000Z
DTEND:20200116T233000Z
X-MICROSOFT-CDO-ALLDAYEVENT:FALSE
SUMMARY:OC Clerk Assessment Appeals Division Workshop
DESCRIPTION:This workshop is part of the Clerk of the Board's outreach program and will provide you with valuable information in preparing for your assessment appeal application hearing. Therefore\, we invite and encourage you to attend one of the workshops listed below. We look forward to meeting you and answering your questions. For questions concerning any of the workshops\, please call the Orange County Assessment Appeals Division staff at (714) 834-2331\, ext. 1. For more information and presentation material\, go to http://ocgov.com/gov/cob/apa/workshops.
X-ALT-DESC;FMTTYPE=text/html:This workshop is part of the Clerk of the Board&rsquo\;s outreach program and will provide you with valuable information in preparing for your assessment appeal application hearing. Therefore\, we invite and encourage you to attend one of the workshops listed below. We look forward to meeting you and answering your questions. For questions concerning any of the workshops\, please call the Orange County Assessment Appeals Division staff at (714) 834-2331\, ext. 1. For more information and presentation material\, go to <a href="http://This workshop is part of the Clerk of the Board?s outreach program and will provide you with valuable information in preparing for your assessment appeal application hearing. Therefore\, we invite and encourage you to attend one of the workshops listed below. We look forward to meeting you and answering your questions. For questions concerning any of the workshops\, please call the Orange County Assessment Appeals Division staff at (714) 834-2331\, ext. 1. For more information and presentation material\, go to http://ocgov.com/gov/cob/apa/workshops.">http://ocgov.com/gov/cob/apa/workshops.</a>
LOCATION:Old County Courthouse 211 W. Santa Ana Blvd.\, #207 Santa Ana\, CA 92701
UID:e.887.24058
SEQUENCE:3
DTSTAMP:20260421T192535Z
URL:https://business.nocchamber.com/events/details/oc-clerk-assessment-appeals-division-workshop-24058
END:VEVENT

END:VCALENDAR
