BEGIN:VCALENDAR
VERSION:2.0
PRODID:-//ChamberMaster//Event Calendar 2.0//EN
METHOD:PUBLISH
X-PUBLISHED-TTL:P3D
REFRESH-INTERVAL:P3D
CALSCALE:GREGORIAN
BEGIN:VEVENT
DTSTART:20200429T230000Z
DTEND:20200430T000000Z
X-MICROSOFT-CDO-ALLDAYEVENT:FALSE
SUMMARY:Oakmont Senior Living - Zoom Professional Mixer
DESCRIPTION:Oakmont of Fullerton is hosting a professional networking mixer via Zoom. Pour yourself a beverage of your choice\, get an update on Oakmont of Fullerton construction/opening and mingle with their colleagues!
X-ALT-DESC;FMTTYPE=text/html:Oakmont of Fullerton is hosting a professional networking mixer via Zoom. Pour yourself a beverage of your choice\, get an update on Oakmont of Fullerton construction/opening and mingle with their colleagues!
LOCATION:Zoom Meeting ID: 833 9796 8902 Password: 377970 One tap mobile +16699009128\,\,83397968902#\,\,1#\,377970# US (San Jose) +12532158782\,\,83397968902#\,\,1#\,377970# US (Tacoma) Dial by your location +1 669 900 9128 US (San Jose) +1 253 215 8782 US (Tacoma) +1 346 248 7799 US (Houston) +1 646 558 8656 US (New York) +1 301 715 8592 US (Germantown) +1 312 626 6799 US (Chicago) Meeting ID: 833 9796 8902 Password: 377970 Find your local number: https://us02web.zoom.us/u/kdjTL8mbQL
UID:e.887.24331
SEQUENCE:3
DTSTAMP:20260421T153542Z
URL:https://business.nocchamber.com/events/details/oakmont-senior-living-zoom-professional-mixer-24331
END:VEVENT

END:VCALENDAR
