BEGIN:VCALENDAR
VERSION:2.0
PRODID:-//ChamberMaster//Event Calendar 2.0//EN
METHOD:PUBLISH
X-PUBLISHED-TTL:P3D
REFRESH-INTERVAL:P3D
CALSCALE:GREGORIAN
BEGIN:VEVENT
DTSTART:20200415T220000Z
DTEND:20200415T230000Z
X-MICROSOFT-CDO-ALLDAYEVENT:FALSE
SUMMARY:Oakmont Senior Living: Doc Talk with Dr. John Geiss
DESCRIPTION:Join Oakmont Senior Living for a live video conference to discuss senior living options\, led by family medicine specialist Dr. John Geiss.\n\n\n\nThe video conference will be on Wednesday\, April 15\, 2020 from 3:00 p.m. to 4:00 p.m.
X-ALT-DESC;FMTTYPE=text/html:Join Oakmont Senior Living for a live video conference to discuss senior living options\, led by family medicine specialist Dr. John Geiss.<br />\n<br />\nThe video conference will be on Wednesday\, April 15\, 2020 from 3:00 p.m. to 4:00 p.m.
LOCATION:Zoom Click here to register.
UID:e.887.24284
SEQUENCE:3
DTSTAMP:20260421T153542Z
URL:https://business.nocchamber.com/events/details/oakmont-senior-living-doc-talk-with-dr-john-geiss-24284
END:VEVENT

END:VCALENDAR
