BEGIN:VCALENDAR
VERSION:2.0
PRODID:-//ChamberMaster//Event Calendar 2.0//EN
METHOD:PUBLISH
X-PUBLISHED-TTL:P3D
REFRESH-INTERVAL:P3D
CALSCALE:GREGORIAN
BEGIN:VEVENT
DTSTART:20190523T153000Z
DTEND:20190523T180000Z
X-MICROSOFT-CDO-ALLDAYEVENT:FALSE
SUMMARY:Community Conversation - The Untapped Workforce
DESCRIPTION:North Orange County Regional Consortium for Adult Education invites you to join them for a strategic conversation on meeting business needs while benefiting the local community.\n\n\n\nQualified and reliable individuals are ready and available to work. Learn how to tap into this pool of candidates and create a more inclusive and diverse workforce.\n\n\n\nLearn about:\n\n	Tax incentives and credits for hiring people with disabilities.\n	The benefits of hiring people with disabilities:\n	\n		Profitability\, cost effectiveness\, productivity\, turn over and retention\, employee loyalty\, punctuality\, and more.\n	\n	\n	Accommodations and on-the-job supports\n	Available resources\n\nRSVP by May 15\, 2019 to Monika Gulmesoff\, mgulmesoff@noce.edu or Ivan Stanojkovic\, istanojkovic@noce.edu (714) 462-4554.
X-ALT-DESC;FMTTYPE=text/html:North Orange County Regional Consortium for Adult Education invites you to join them for a strategic conversation on meeting business needs while benefiting the local community.<br />\n<br />\nQualified and reliable individuals are ready and available to work. Learn how to tap into this pool of candidates and create a more inclusive and diverse workforce.<br />\n<br />\nLearn about:\n<ul>\n	<li>Tax incentives and credits for hiring people with disabilities.</li>\n	<li>The benefits of hiring people with disabilities:\n	<ul>\n		<li>Profitability\, cost effectiveness\, productivity\, turn over and retention\, employee loyalty\, punctuality\, and more.</li>\n	</ul>\n	</li>\n	<li>Accommodations and on-the-job supports</li>\n	<li>Available resources</li>\n</ul>\nRSVP by May 15\, 2019 to Monika Gulmesoff\, mgulmesoff@noce.edu or Ivan Stanojkovic\, istanojkovic@noce.edu (714) 462-4554.
LOCATION:North Orange County Community College District 1830 West Romneya Drive Anaheim\, CA 92801
UID:e.887.23118
SEQUENCE:3
DTSTAMP:20260422T053133Z
URL:https://business.nocchamber.com/events/details/norc-community-conversation-23118
END:VEVENT

END:VCALENDAR
