BEGIN:VCALENDAR
VERSION:2.0
PRODID:-//ChamberMaster//Event Calendar 2.0//EN
METHOD:PUBLISH
X-PUBLISHED-TTL:P3D
REFRESH-INTERVAL:P3D
CALSCALE:GREGORIAN
BEGIN:VEVENT
DTSTART:20180921T010000Z
DTEND:20180921T030000Z
X-MICROSOFT-CDO-ALLDAYEVENT:FALSE
SUMMARY:NOCCCD's Challenging the Culture of Cruelty: Understanding and Defeating Race and Class Inequity in America
DESCRIPTION:Challenging the Culture of Cruelty: Understanding and Defeating Race and Class Inequity in America. In this speech\, drawn from his newest book\, Tim Wise examines the ways in which American politics and culture serve to rationalize inequalities on the basis of class and race.
X-ALT-DESC;FMTTYPE=text/html:Challenging the Culture of Cruelty: Understanding and Defeating Race and Class Inequity in America. In this speech\, drawn from his newest book\, Tim Wise examines the ways in which American politics and culture serve to rationalize inequalities on the basis of class and race.&nbsp\;
LOCATION:Fullerton College Campus Theater 321 E. Chapman Ave. Fullerton\, CA 92832
UID:e.887.22682
SEQUENCE:3
DTSTAMP:20260422T125449Z
URL:https://business.nocchamber.com/events/details/nocccd-s-challenging-the-culture-of-cruelty-understanding-and-defeating-race-and-class-inequity-in-america-22682
END:VEVENT

END:VCALENDAR
