BEGIN:VCALENDAR
VERSION:2.0
PRODID:-//ChamberMaster//Event Calendar 2.0//EN
METHOD:PUBLISH
X-PUBLISHED-TTL:P3D
REFRESH-INTERVAL:P3D
CALSCALE:GREGORIAN
BEGIN:VEVENT
DTSTART:20190214T010000Z
DTEND:20190214T030000Z
X-MICROSOFT-CDO-ALLDAYEVENT:FALSE
SUMMARY:NOCC Happy Hour Chamber Mixer
DESCRIPTION:Mix and mingle with professionals from throughout North Orange County at our After Hours Mixer.\n\n\n\nThis event is hosted by the hot new Downtown Fullerton restaurant Wreckless. Choose your drink from the spot's expansive cocktail menu. Take a sip of classic cocktails\, margaritas and wine or have a whiskey flight. And enjoy a bite to eat\, from Escargot Toast to Bacon Wrapped Dates\, and more.
X-ALT-DESC;FMTTYPE=text/html:Mix and mingle with professionals from throughout North Orange County at our After Hours Mixer.<br />\n<br />\nThis event is hosted by the hot new Downtown Fullerton restaurant&nbsp\;<a href="https://www.wreckless.us/" target="_blank">Wreckless</a>. Choose your drink from the spot&#39\;s expansive cocktail menu. Take a sip of classic cocktails\, margaritas and wine or have a whiskey flight. And enjoy a bite to eat\, from Escargot Toast to Bacon Wrapped Dates\, and more.
LOCATION:Wreckless 136 W. Commonwealth Ave. Fullerton\, CA 92832
UID:e.887.22985
SEQUENCE:3
DTSTAMP:20260422T093320Z
URL:https://business.nocchamber.com/events/details/nocc-happy-hour-chamber-mixer-22985
END:VEVENT

END:VCALENDAR
