BEGIN:VCALENDAR
VERSION:2.0
PRODID:-//ChamberMaster//Event Calendar 2.0//EN
METHOD:PUBLISH
X-PUBLISHED-TTL:P3D
REFRESH-INTERVAL:P3D
CALSCALE:GREGORIAN
BEGIN:VEVENT
DTSTART:20190411T000000Z
DTEND:20190411T020000Z
X-MICROSOFT-CDO-ALLDAYEVENT:FALSE
SUMMARY:NOCC After Hours at the Muckenthaler Cultural Center
DESCRIPTION:Join the North Orange County Chamber and the Orange County Korean American Chamber of Commerce for an evening on the beautiful grounds of the Muckenthaler Cultural Center. Connect with like-minded business professionals and enjoy delicious bites catered by Colette's Catering.  Bring plenty of business cards and a raffle prize to help promote your business. No Host Bar.
X-ALT-DESC;FMTTYPE=text/html:Join the North Orange County Chamber and the Orange County Korean American Chamber of Commerce for an evening on the beautiful grounds of the<a href="https://themuck.org/" target="_blank"> Muckenthaler Cultural Cente</a>r. Connect with like-minded business professionals and enjoy delicious bites catered by <a href="https://colettesevents.com/" target="_blank">Colette&rsquo\;s Catering</a>.&nbsp\;&#8203\;Bring plenty of business cards and a raffle prize to help promote your business. No Host Bar.<br />\n<br />\n<br />\n&nbsp\;
LOCATION:Muckenthaler Cultural Center 1201 W. Malvern Ave. Fullerton\, CA 92833
UID:e.887.23058
SEQUENCE:3
DTSTAMP:20260422T065702Z
URL:https://business.nocchamber.com/events/details/nocc-after-hours-at-the-muckenthaler-cultural-center-23058
END:VEVENT

END:VCALENDAR
