BEGIN:VCALENDAR
VERSION:2.0
PRODID:-//ChamberMaster//Event Calendar 2.0//EN
METHOD:PUBLISH
X-PUBLISHED-TTL:P3D
REFRESH-INTERVAL:P3D
CALSCALE:GREGORIAN
BEGIN:VEVENT
DTSTART:20200207T010000Z
DTEND:20200207T030000Z
X-MICROSOFT-CDO-ALLDAYEVENT:FALSE
SUMMARY:NOC Chamber Winter Business Mixer
DESCRIPTION:Mix and mingle with professionals from throughout North Orange County at NOC Chamber's Winter Business Mixer on Thursday\, February 6 at Fullerton Museum Center. Bring plenty of business cards and a raffle prize to help promote your business.\n\n\n\nThis event is free for investing Chamber members and $10 for non-investors.
X-ALT-DESC;FMTTYPE=text/html:Mix and mingle with professionals from throughout North Orange County at NOC Chamber&#39\;s Winter Business Mixer on Thursday\, February 6 at Fullerton Museum Center. Bring plenty of business cards and a raffle prize to help promote your business.<br />\n<br />\nThis event is free for investing Chamber members and $10 for non-investors.
LOCATION:Fullerton Museum 301 N. Pomona Ave. Fullerton\, CA 92832
UID:e.887.23859
SEQUENCE:3
DTSTAMP:20260421T182121Z
URL:https://business.nocchamber.com/events/details/noc-chamber-winter-business-mixer-23859
END:VEVENT

END:VCALENDAR
