BEGIN:VCALENDAR
VERSION:2.0
PRODID:-//ChamberMaster//Event Calendar 2.0//EN
METHOD:PUBLISH
X-PUBLISHED-TTL:P3D
REFRESH-INTERVAL:P3D
CALSCALE:GREGORIAN
BEGIN:VEVENT
DTSTART:20190813T184500Z
DTEND:20190813T200000Z
X-MICROSOFT-CDO-ALLDAYEVENT:FALSE
SUMMARY:NOC Chamber Tuesday Leads Group
DESCRIPTION:This meeting is hosted by Leads Group Member April Barnes of Speech and Language Development Center.  The location for this meeting is 8699 Holder St.\, Buena Park\, CA 90620.\n\n\n\nThe North Orange County Chamber Leads Groups are made up of business professionals who have the desire to improve their income by forming relationships with other Chamber members and exchanging direct client referrals and leads.\n\n\n\nLeads Groups are comprised of 15-20 individuals that meet twice a month to help each other with selling techniques\, presentation skills\, recruiting\, strategic partnerships\, referral exchange\, professional relationships and more. Participation in these groups is an exclusive yet complimentary benefit of membership. The Leads Groups follow a non-competing format and are limited to one person per industry and/or profession.\n\n\n\nMembers of the Leads Group Program will:\n\n	Learn how to pass and receive leads\n	Meet and develop strategic business partners\n	Gain exposure to like-minded professionals\n	Have opportunities to volunteer and grow their business
X-ALT-DESC;FMTTYPE=text/html:This meeting is hosted by Leads Group Member April Barnes of <a href="https://www.sldc.net/" target="_blank">Speech and Language Development Center.&nbsp\;</a>&nbsp\;The location for this meeting is&nbsp\;8699 Holder St.\, Buena Park\, CA 90620.<br />\n<br />\nThe North Orange County Chamber Leads Groups are made up of business professionals who have the desire to improve their income by forming relationships with other Chamber members and exchanging direct client referrals and leads.<br />\n<br />\nLeads Groups are comprised of 15-20 individuals that meet twice a month to help each other with selling techniques\, presentation skills\, recruiting\, strategic partnerships\, referral exchange\, professional relationships and more. Participation in these groups is an exclusive yet complimentary benefit of membership. The Leads Groups follow a non-competing format and are limited to one person per industry and/or profession.<br />\n<br />\nMembers of the Leads Group Program will:\n<ul>\n	<li>Learn how to pass and receive leads</li>\n	<li>Meet and develop strategic business partners</li>\n	<li>Gain exposure to like-minded professionals</li>\n	<li>Have opportunities to volunteer and grow their business</li>\n</ul>\n
LOCATION:Speech and Language Development Center 8699 Holder St. Buena Park\, CA 90620
UID:e.887.23615
SEQUENCE:3
DTSTAMP:20260422T015226Z
URL:https://business.nocchamber.com/events/details/noc-chamber-tuesday-leads-group-23615
END:VEVENT

END:VCALENDAR
