BEGIN:VCALENDAR
VERSION:2.0
PRODID:-//ChamberMaster//Event Calendar 2.0//EN
METHOD:PUBLISH
X-PUBLISHED-TTL:P3D
REFRESH-INTERVAL:P3D
CALSCALE:GREGORIAN
BEGIN:VEVENT
DTSTART:20191210T194500Z
DTEND:20191210T210000Z
X-MICROSOFT-CDO-ALLDAYEVENT:FALSE
SUMMARY:NOC Chamber Tuesday Leads Group
DESCRIPTION:This meeting is hosted by Leads Group Member Jennifer O'Brien Chavez of Sunrise Senior Living. The location for this meeting is 2226 N. Euclid St.\, Fullerton\, CA 92835.\n\n \n\nThe North Orange County Chamber Leads Groups are made up of business professionals who have the desire to improve their income by forming relationships with other Chamber members and exchanging direct client referrals and leads.\n\n\n\nLeads Groups are comprised of 25-30 individuals that meet twice a month to help each other with selling techniques\, presentation skills\, recruiting\, strategic partnerships\, referral exchange\, professional relationships and more. Participation in these groups is an exclusive yet complimentary benefit of membership. The Leads Groups follow a non-competing format and are limited to one person per industry and/or profession.\n\n\n\nMembers of the Leads Group Program will:\n\n	Learn how to pass and receive leads\n	Meet and develop strategic business partners\n	Gain exposure to like-minded professionals\n	Have opportunities to volunteer and grow their business
X-ALT-DESC;FMTTYPE=text/html:This meeting is hosted by Leads Group Member Jennifer O&rsquo\;Brien Chavez of <a href="https://www.sunriseseniorliving.com/" target="_blank">Sunrise Senior Living</a>. The location for this meeting is&nbsp\;2226 N. Euclid St.\,&nbsp\;Fullerton\, CA 92835.<br />\n&nbsp\;<br />\n<span style="background:white\;"><span style="color:#333333\;"><span style="font-family:arial\,sans-serif\;"><span style="font-size:10.0pt\;">The North Orange County Chamber Leads Groups are made up of business professionals who have the desire to improve their income by forming relationships with other Chamber members and exchanging direct client referrals and leads.</span></span></span></span><br />\n<br />\n<span style="color:#333333\;"><span style="font-family:arial\,sans-serif\;"><span style="font-size:10.0pt\;"><span style="background:white\;">Leads Groups are comprised of 25-30 individuals that meet twice a month to help each other with selling techniques\, presentation skills\, recruiting\, strategic partnerships\, referral exchange\, professional relationships and more. Participation in these groups is an exclusive yet complimentary benefit of membership. The Leads Groups follow a non-competing format and are limited to one person per industry and/or profession.</span><br />\n<br />\n<span style="background:white\;">Members of the Leads Group Program will:</span></span></span></span>\n<ul>\n	<li style="color:#333333\;"><span style="font-family:arial\,sans-serif\;"><span style="font-size:10.0pt\;">Learn how to pass and receive leads</span></span></li>\n	<li style="color:#333333\;"><span style="font-family:arial\,sans-serif\;"><span style="font-size:10.0pt\;">Meet and develop strategic business partners</span></span></li>\n	<li style="color:#333333\;"><span style="font-family:arial\,sans-serif\;"><span style="font-size:10.0pt\;">Gain exposure to like-minded professionals</span></span></li>\n	<li style="color:#333333\;"><span style="font-family:arial\,sans-serif\;"><span style="font-size:10.0pt\;">Have opportunities to volunteer and grow their business</span></span></li>\n</ul>\n
LOCATION:Sunrise Senior Living 2226 N. Euclid St. Fullerton\, CA 92835
UID:e.887.23614
SEQUENCE:3
DTSTAMP:20260421T202557Z
URL:https://business.nocchamber.com/events/details/noc-chamber-tuesday-leads-group-23614
END:VEVENT

END:VCALENDAR
