BEGIN:VCALENDAR
VERSION:2.0
PRODID:-//ChamberMaster//Event Calendar 2.0//EN
METHOD:PUBLISH
X-PUBLISHED-TTL:P3D
REFRESH-INTERVAL:P3D
CALSCALE:GREGORIAN
BEGIN:VEVENT
DTSTART:20191205T194500Z
DTEND:20191205T210000Z
X-MICROSOFT-CDO-ALLDAYEVENT:FALSE
SUMMARY:NOC Chamber Thursday Leads Group
DESCRIPTION:The North Orange County Chamber Leads Groups are made up of business professionals who have the desire to improve their income by forming relationships with other Chamber members and exchanging direct client referrals and leads.\n\n\n\nLeads Groups meet twice a month to help each other with selling techniques\, presentation skills\, recruiting\, strategic partnerships\, referral exchange\, professional relationships and more. Participation in these groups is an exclusive yet complimentary benefit of membership. The Leads Groups follow a non-competing format and are limited to one person per industry and/or profession.\n\n\n\nMembers of the Leads Group Program will:\n\n	Learn how to pass and receive leads\n	Meet and develop strategic business partners\n	Gain exposure to like-minded professionals\n	Have opportunities to volunteer and grow their business\n\nThe scheduled speaker for this meeting is Tiffanie Ward of Rowntree Gardens\, a senior living community that offers a space for friendships to form and for people to treat each other with compassion and devotion. This faith-based continuing care senior community extends a full array of integrated onsite services\, amenities and expertise that meet the needs of people as they age.
X-ALT-DESC;FMTTYPE=text/html:The North Orange County Chamber Leads Groups are made up of business professionals who have the desire to improve their income by forming relationships with other Chamber members and exchanging direct client referrals and leads.<br />\n<br />\nLeads Groups meet twice a month to help each other with selling techniques\, presentation skills\, recruiting\, strategic partnerships\, referral exchange\, professional relationships and more. Participation in these groups is an exclusive yet complimentary benefit of membership. The Leads Groups follow a non-competing format and are limited to one person per industry and/or profession.<br />\n<br />\nMembers of the Leads Group Program will:\n<ul>\n	<li>Learn how to pass and receive leads</li>\n	<li>Meet and develop strategic business partners</li>\n	<li>Gain exposure to like-minded professionals</li>\n	<li>Have opportunities to volunteer and grow their business</li>\n</ul>\nThe scheduled speaker for this meeting is Tiffanie Ward of Rowntree Gardens\, a senior living community that offers a space for friendships to form and for people to treat each other with compassion and devotion. This faith-based continuing care senior community extends a full array of integrated onsite services\, amenities and expertise that meet the needs of people as they age.
LOCATION:Rowntree Gardens 12151 Dale St. Stanton\, CA 90680
UID:e.887.23383
SEQUENCE:3
DTSTAMP:20260421T204111Z
URL:https://business.nocchamber.com/events/details/noc-chamber-thursday-leads-group-12-05-2019-23383
END:VEVENT

END:VCALENDAR
