BEGIN:VCALENDAR
VERSION:2.0
PRODID:-//ChamberMaster//Event Calendar 2.0//EN
METHOD:PUBLISH
X-PUBLISHED-TTL:P3D
REFRESH-INTERVAL:P3D
CALSCALE:GREGORIAN
BEGIN:VEVENT
DTSTART:20191107T194500Z
DTEND:20191107T210000Z
X-MICROSOFT-CDO-ALLDAYEVENT:FALSE
SUMMARY:NOC Chamber Thursday Leads Group
DESCRIPTION:The North Orange County Chamber Leads Groups are made up of business professionals who have the desire to improve their income by forming relationships with other Chamber members and exchanging direct client referrals and leads.\n\n\n\nLeads Groups meet twice a month to help each other with selling techniques\, presentation skills\, recruiting\, strategic partnerships\, referral exchange\, professional relationships and more. Participation in these groups is an exclusive yet complimentary benefit of membership. The Leads Groups follow a non-competing format and are limited to one person per industry and/or profession.\n\n\n\nMembers of the Leads Group Program will:\n\n	Learn how to pass and receive leads\n	Meet and develop strategic business partners\n	Gain exposure to like-minded professionals\n	Have opportunities to volunteer and grow their business\n\nThe scheduled speakers for this meeting are Stella and Paul Santiago of Boffo Video.\n\n \nBoffo Video - With over 500 weddings under their belt\, Paul & Stella Santiago and their production team have earned countless satisfied clients and established a recognizable brand in the Orange County Wedding Industry scene. During their 9 years in business\, Boffo Video has travelled and served happy couples from all over Southern California\, and destinations like San Francisco\, New York\, Las Vegas\, and Hawaii. They are also co-owners of Eventlux.co\, a company offering photo and video services for corporate events and private parties. Paul is also the host of the Wedding Video Boss Podcast and a brand ambassador for MusicBed and Sountdtripe.\n\n \n\nNoteworthy accomplishments include Speaker for Canon USA at WPPI 2018\, Speaker at WeddingMBA 2017\, and video review for Canon's AI Servo lenses featured at the NABShow 2017 in Las Vegas and New York. Their work has been featured multiple times in prestigious online publications including Grace Ormonde\, Style Me Pretty\, Green Wedding Shoes\, Martha Stewart Weddings\, After Ellen\, Huffington Post\, Buzzfeed\, KTLA.
X-ALT-DESC;FMTTYPE=text/html:The North Orange County Chamber Leads Groups are made up of business professionals who have the desire to improve their income by forming relationships with other Chamber members and exchanging direct client referrals and leads.<br />\n<br />\nLeads Groups meet twice a month to help each other with selling techniques\, presentation skills\, recruiting\, strategic partnerships\, referral exchange\, professional relationships and more. Participation in these groups is an exclusive yet complimentary benefit of membership. The Leads Groups follow a non-competing format and are limited to one person per industry and/or profession.<br />\n<br />\nMembers of the Leads Group Program will:\n<ul>\n	<li>Learn how to pass and receive leads</li>\n	<li>Meet and develop strategic business partners</li>\n	<li>Gain exposure to like-minded professionals</li>\n	<li>Have opportunities to volunteer and grow their business</li>\n</ul>\nThe scheduled speakers for this meeting are Stella and Paul Santiago of Boffo Video.<br />\n&nbsp\;\n<div><a href="https://www.boffovideo.com/" target="_blank">Boffo Video</a> - With over 500 weddings under their belt\, Paul &amp\; Stella Santiago and their production team have earned countless satisfied clients and established a recognizable brand in the Orange County Wedding Industry scene. During their 9 years in business\, Boffo Video has travelled and served happy couples from all over Southern California\, and destinations like San Francisco\, New York\, Las Vegas\, and Hawaii. They are also co-owners of <a href="https://www.eventlux.co" target="_blank">Eventlux.co</a>\, a company offering photo and video services for corporate events and private parties. Paul is also the host of the Wedding Video Boss Podcast and a brand ambassador for MusicBed and Sountdtripe.</div>\n\n<div>&nbsp\;</div>\n\n<div>Noteworthy accomplishments include Speaker for Canon USA at WPPI 2018\, Speaker at WeddingMBA 2017\, and video review for Canon&rsquo\;s AI Servo lenses featured at the NABShow 2017 in Las Vegas and New York. Their work has been featured multiple times in prestigious online publications including Grace Ormonde\, Style Me Pretty\, Green Wedding Shoes\, Martha Stewart Weddings\, After Ellen\, Huffington Post\, Buzzfeed\, KTLA.</div>\n
LOCATION:Boffo Video 524 W. Commonwealth Ave. Suite H Fullerton\, CA 92832
UID:e.887.23381
SEQUENCE:3
DTSTAMP:20260421T225534Z
URL:https://business.nocchamber.com/events/details/noc-chamber-thursday-leads-group-11-07-2019-23381
END:VEVENT

END:VCALENDAR
