BEGIN:VCALENDAR
VERSION:2.0
PRODID:-//ChamberMaster//Event Calendar 2.0//EN
METHOD:PUBLISH
X-PUBLISHED-TTL:P3D
REFRESH-INTERVAL:P3D
CALSCALE:GREGORIAN
BEGIN:VEVENT
DTSTART:20170317T153000Z
DTEND:20170317T163000Z
X-MICROSOFT-CDO-ALLDAYEVENT:FALSE
SUMMARY:NOC Chamber Public Policy Committee
DESCRIPTION:Join the chamber's Public Policy Committee every month and hear from the "movers and shakers" from around North Orange County discuss issues facing the business community. \n\n\n\nThis month we will hear from Assemblywoman Sharon Quirk-Silva. She will be sharing with the committee about her most recent bill package\, her plans for this legislative cycle and her role as Chair of the Committee on Jobs\, Economic Development and the Economy.
X-ALT-DESC;FMTTYPE=text/html:<span style="background-image:initial\;background-position:initial\;background-size:initial\;background-repeat:initial\;background-attachment:initial\;background-origin:initial\;background-clip:initial\;"><span style="font-family:arial\,sans-serif\;"><span style="font-size:10pt\;">Join the chamber&#39\;s Public Policy Committee every month and hear from the &quot\;movers and shakers&quot\; from around North Orange County discuss issues facing the business community.&nbsp\;<br />\n<br />\nThis month we will hear from <strong>Assemblywoman Sharon Quirk-Silva</strong>. She will be sharing with the committee about her most recent bill package\, her plans for this legislative cycle and her role as Chair of the Committee on Jobs\, Economic Development and the Economy.</span></span></span>
LOCATION:NOC Chamber - Large Conference Room 444 N. Harbor Blvd. Suite 200 Fullerton\, CA 92832
UID:e.887.15936
SEQUENCE:3
DTSTAMP:20260421T163414Z
URL:https://business.nocchamber.com/events/details/noc-chamber-public-policy-committee-15936
END:VEVENT

END:VCALENDAR
