BEGIN:VCALENDAR
VERSION:2.0
PRODID:-//ChamberMaster//Event Calendar 2.0//EN
METHOD:PUBLISH
X-PUBLISHED-TTL:P3D
REFRESH-INTERVAL:P3D
CALSCALE:GREGORIAN
BEGIN:VEVENT
DTSTART:20200116T160000Z
DTEND:20200116T173000Z
X-MICROSOFT-CDO-ALLDAYEVENT:FALSE
SUMMARY:NOC Chamber Government Affairs Committee
DESCRIPTION:Lucinda Williams\, City Clerk\, Fullerton\, shares insight about the upcoming election. \n\n\n\nAs recently published in Capitol Weekly\, "In less than four weeks\, 15 million Californians will be receiving ballots in the mail for the March 2020 primary.\n\n\n\nJust under 4 million Republicans will have an opportunity to reaffirm their support for Donald Trump\, or select from a few little-known challengers.\n\n\n\nAround 7 million Democrats will see a host of well-known candidates\, many of whom have been barnstorming the state in search of voters\, endorsements and fundraising.\n\n\n\nAnd what about the 4 million-plus independent voters who are eligible to vote in the Democratic Primary?  Most will see no presidential candidates at all."\n\n\n\nLearn more at this informative presentation.
X-ALT-DESC;FMTTYPE=text/html:Lucinda Williams\, City Clerk\, Fullerton\, shares insight about the upcoming election.&nbsp\;<br />\n<br />\nAs recently published in <a href="https://capitolweekly.net/ca120-in-california-super-tuesday-means-super-confusion/">Capitol Weekly\,</a>&nbsp\;&quot\;In less than four weeks\, 15 million Californians will be receiving ballots in the mail for the March 2020 primary.<br />\n<br />\nJust under 4 million Republicans will have an opportunity to reaffirm their support for Donald Trump\, or select from a few little-known challengers.<br />\n<br />\nAround 7 million Democrats will see a host of well-known candidates\, many of whom have been barnstorming the state in search of voters\, endorsements and fundraising.<br />\n<br />\nAnd what about the 4 million-plus independent voters who are eligible to vote in the Democratic Primary?&nbsp\;&nbsp\;Most will see no presidential candidates at all.&quot\;<br />\n<br />\nLearn more at this informative presentation.&nbsp\;
LOCATION:North Orange County Community College District 1830 W. Romneya Dr.\, 10th Floor Anaheim\, CA 92801
UID:e.887.24056
SEQUENCE:3
DTSTAMP:20260421T191603Z
URL:https://business.nocchamber.com/events/details/noc-chamber-government-affairs-committee-24056
END:VEVENT

END:VCALENDAR
