BEGIN:VCALENDAR
VERSION:2.0
PRODID:-//ChamberMaster//Event Calendar 2.0//EN
METHOD:PUBLISH
X-PUBLISHED-TTL:P3D
REFRESH-INTERVAL:P3D
CALSCALE:GREGORIAN
BEGIN:VEVENT
DTSTART:20191108T010000Z
DTEND:20191108T030000Z
X-MICROSOFT-CDO-ALLDAYEVENT:FALSE
SUMMARY:NOC Chamber Fall Business Mixer
DESCRIPTION:NOC Chamber\, in partnership with the Boys & Girls Club of Buena Park\, the Korean American Chamber of Commerce Orange County and SoCalGas is hosting a Fall Business Mixer at Mrs. Knott's Chicken Dinner Restaurant on Thursday\, November 7 at 5:00 p.m.\n\n\n\nMix and mingle with professionals from throughout North Orange County. Bring plenty of business cards and a raffle prize to help promote your business. No Host Bar.\n\n\n\nADMISSION:\n\nAn unwrapped toy ($10 minimum) or $10 per person.\n\nToys will be donated to: Boys and Girls Club of Buena Park and Boys and Girls Club of Fullerton.\n\n\n\nDownload the full flyer here.\n\n\n\nSpecial thanks to the title sponsor\, SoCalGas.\n\n\n\nClick here to download the parking pass. Please print it and have it ready upon arrival.
X-ALT-DESC;FMTTYPE=text/html:NOC Chamber\, in partnership with the <a href="https://theplaceforkids.org/" target="_blank">Boys &amp\; Girls Club of Buena Park</a>\, the <a href="http://www.kaccoc.org/" target="_blank">Korean American Chamber of Commerce Orange County</a>&nbsp\;and <a href="https://www.socalgas.com/" target="_blank">SoCalGas</a>&nbsp\;is hosting a Fall Business Mixer at <a href="https://www.knotts.com/play/drinks-dining/mrs-knotts-chicken-dinner-restaurant" target="_blank">Mrs. Knott&#39\;s Chicken Dinner Restaurant</a> on Thursday\, November 7 at 5:00 p.m.<br />\n<br />\nMix and mingle with professionals from throughout North Orange County. Bring plenty of business cards and a raffle prize to help promote your business. No Host Bar.<br />\n<br />\nADMISSION:<br />\nAn unwrapped toy ($10 minimum) or $10 per person.<br />\nToys will be donated to: Boys and Girls Club of Buena Park and Boys and Girls Club of Fullerton.<br />\n<br />\n<a href="https://chambermaster.blob.core.windows.net/userfiles/UserFiles/chambers/887/File/KnottsMixerFlyer.pdf">Download the full flyer here.</a><br />\n<br />\nSpecial thanks to the title sponsor\, <a href="https://www.socalgas.com/" target="_blank">SoCalGas</a>.<br />\n<br />\n<a href="https://chambermaster.blob.core.windows.net/userfiles/UserFiles/chambers/887/File/Nov7ParkingPass.pdf">Click here to download the parking pass.</a> Please print it and have it ready upon arrival.
LOCATION:Mrs. Knott's Chicken Dinner Restaurant 8039 Beach Blvd. Buena Park\, CA 90620
UID:e.887.23719
SEQUENCE:3
DTSTAMP:20260421T214151Z
URL:https://business.nocchamber.com/events/details/noc-chamber-fall-business-mixer-23719
END:VEVENT

END:VCALENDAR
