BEGIN:VCALENDAR
VERSION:2.0
PRODID:-//ChamberMaster//Event Calendar 2.0//EN
METHOD:PUBLISH
X-PUBLISHED-TTL:P3D
REFRESH-INTERVAL:P3D
CALSCALE:GREGORIAN
BEGIN:VEVENT
DTSTART:20170624T010000Z
DTEND:20170624T050000Z
X-MICROSOFT-CDO-ALLDAYEVENT:FALSE
SUMMARY:NOC Chamber Business Excellence & Leadership Awards
DESCRIPTION:North Orange County Chamber is proud to present the Business Excellence and Leadership Awards. Themed "Seeking New Heights\," this year's program honors outstanding businesses. It will also recognize the service of our board of directors as we install the 2017-18 Board of Directors.
X-ALT-DESC;FMTTYPE=text/html:North Orange County Chamber&nbsp\;is proud to present the Business Excellence and Leadership Awards. Themed &ldquo\;Seeking New Heights\,&rdquo\; this year&rsquo\;s program honors outstanding businesses. It will also recognize the service of our board of directors as we install the 2017-18 Board of Directors.
LOCATION:General Aviation Hanger at Fullerton Airport 4011 W Commonwealth Ave. Fullerton\, CA 92833
UID:e.887.15951
SEQUENCE:3
DTSTAMP:20260421T015221Z
URL:https://business.nocchamber.com/events/details/noc-chamber-business-excellence-leadership-awards-15951
END:VEVENT

END:VCALENDAR
