BEGIN:VCALENDAR
VERSION:2.0
PRODID:-//ChamberMaster//Event Calendar 2.0//EN
METHOD:PUBLISH
X-PUBLISHED-TTL:P3D
REFRESH-INTERVAL:P3D
CALSCALE:GREGORIAN
BEGIN:VEVENT
DTSTART:20190822T000000Z
DTEND:20190822T020000Z
X-MICROSOFT-CDO-ALLDAYEVENT:FALSE
SUMMARY:NOC After Hours at Fullerton College
DESCRIPTION:Mix and mingle with professionals from throughout North Orange County. Enjoy delicious food and drinks. Bring plenty of business cards and a raffle prize to help promote your business or organization.\n\n\n\nFullerton College is also hosting a special free Pre-Mixer Workshop called "How to Hire an Intern".  During this one-hour workshop\, they will teach the best ways to utilize an intern\, how to write a job description\, post an ad on their employment system and tell you the requirements for hosting an intern once or every semester at your business. This workshop is free and open to any business. Bring a co-worker\, then enjoy the mixer afterward.To sign up for the Internship Workshop\, rsvp on facebook or use this form. See the Facebook Event link.
X-ALT-DESC;FMTTYPE=text/html:Mix and mingle with professionals from throughout North Orange County. Enjoy delicious food and drinks. Bring plenty of business cards and a raffle prize to help promote your business or organization.<br />\n<br />\nFullerton College is also hosting a special free Pre-Mixer Workshop called <a href="http://www.nocchamber.com/events/details/how-to-hire-an-intern-pre-mixer-workshop-23603" target="_blank">&quot\;How to Hire an Intern&quot\;</a>.&nbsp\; During this one-hour workshop\, they will teach the best ways to utilize an intern\, how to write a job description\, post an ad on their employment system and tell you the requirements for hosting an intern once or every semester at your business. This workshop is free and open to any business. Bring a co-worker\, then enjoy the mixer afterward.To sign up for the Internship Workshop\, rsvp on facebook or use&nbsp\;<a href="https://forms.gle/FKmYvwUiHxesLGFS9" target="_blank">this form.</a> See the&nbsp\;<a href="https://www.facebook.com/events/2566514783399831/" target="_blank">Facebook Event link.</a>
LOCATION:Fullerton College 321 E. Chapman Ave. Fullerton\, CA 92832
UID:e.887.23305
SEQUENCE:3
DTSTAMP:20260422T015457Z
URL:https://business.nocchamber.com/events/details/noc-after-hours-at-fullerton-college-23305
END:VEVENT

END:VCALENDAR
