BEGIN:VCALENDAR
VERSION:2.0
PRODID:-//ChamberMaster//Event Calendar 2.0//EN
METHOD:PUBLISH
X-PUBLISHED-TTL:P3D
REFRESH-INTERVAL:P3D
CALSCALE:GREGORIAN
BEGIN:VEVENT
DTSTART:20191009T230000Z
DTEND:20191010T000000Z
X-MICROSOFT-CDO-ALLDAYEVENT:FALSE
SUMMARY:NEW DATE: The Simple Greek Ribbon Cutting
DESCRIPTION:Join us for the official grand opening and ribbon cutting ceremony to celebrate the opening of The Simple Greek in Fullerton.
X-ALT-DESC;FMTTYPE=text/html:Join us for the official grand opening and ribbon cutting ceremony to celebrate the opening of <a href="https://thesimplegreek.com/location/fullerton-ca/" target="_blank">The Simple Greek</a> in Fullerton.
LOCATION:141 E. Imperial Highway Fullerton CA 92835
UID:e.887.23700
SEQUENCE:3
DTSTAMP:20260421T231111Z
URL:https://business.nocchamber.com/events/details/new-date-the-simple-greek-ribbon-cutting-23700
END:VEVENT

END:VCALENDAR
