BEGIN:VCALENDAR
VERSION:2.0
PRODID:-//ChamberMaster//Event Calendar 2.0//EN
METHOD:PUBLISH
X-PUBLISHED-TTL:P3D
REFRESH-INTERVAL:P3D
CALSCALE:GREGORIAN
BEGIN:VEVENT
DTSTART:20190516T153000Z
DTEND:20190516T163000Z
X-MICROSOFT-CDO-ALLDAYEVENT:FALSE
SUMMARY:New Business Orientation Class
DESCRIPTION:These recurring classes are designed for new business owners. The CDTFA staff will be available to answer your sales and use tax questions as they relate to your business/industry.\n\n\n\nLearn about basic sales tax collection requirements\, permits\, etc. when starting a new business.
X-ALT-DESC;FMTTYPE=text/html:These recurring classes are designed for new business owners. The CDTFA staff will be available to answer your sales and use tax questions as they relate to your business/industry.<br />\n<br />\nLearn about basic sales tax collection requirements\, permits\, etc. when starting a new business.
LOCATION:CDTFA Irvine Office 16715 Von Karman Avenue Suite 175 Irvine CA 92606
UID:e.887.23298
SEQUENCE:3
DTSTAMP:20260422T064621Z
URL:https://business.nocchamber.com/events/details/new-business-orientation-class-23298
END:VEVENT

END:VCALENDAR
