BEGIN:VCALENDAR
VERSION:2.0
PRODID:-//ChamberMaster//Event Calendar 2.0//EN
METHOD:PUBLISH
X-PUBLISHED-TTL:P3D
REFRESH-INTERVAL:P3D
CALSCALE:GREGORIAN
BEGIN:VEVENT
DTSTART:20180420T000000Z
DTEND:20180420T030000Z
X-MICROSOFT-CDO-ALLDAYEVENT:FALSE
SUMMARY:Networking Event - BBQ and Beer at Anaheim Packing District
DESCRIPTION:The Young Professional Group for the Speech and Language Development Center is partnering with Unsung Brewing Co. and Jav's BBQ at the Anaheim Packing District to introduce you to new flavors and other local young professionals in support of the Speech and Language Development Center. \n\n\n\nSpeech and Language Development Center is a non-profit school and therapy center serving children and young adults\, ages three months through 21 years. Based on more than 50 years of knowledge\, skill and success\, SLDC provides remediation for language/learning\, emotional/social and neurologically-based needs to students with a broad scope of diagnoses\, including Autism Spectrum Disorder. The Center is certified by the California State Department of Education and licensed by the California State Department of Social Services
X-ALT-DESC;FMTTYPE=text/html:The Young Professional Group for the&nbsp\;Speech and Language Development Center is partnering with Unsung Brewing Co. and Jav&#39\;s BBQ at the Anaheim Packing District to introduce you to new flavors and other local young professionals in support of the Speech and Language Development Center.&nbsp\;<br />\n<br />\n<em>Speech and Language Development Center is a non-profit school and therapy center serving children and young adults\, ages three months through 21 years. Based on more than 50 years of knowledge\, skill and success\, SLDC provides remediation for language/learning\, emotional/social and neurologically-based needs to students with a broad scope of diagnoses\, including Autism Spectrum Disorder. The Center is certified by the California State Department of Education and licensed by the California State Department of Social Services</em>
LOCATION:Unsung Brewery 500 S. Anaheim Blvd. Anaheim\, CA 92805
UID:e.887.21326
SEQUENCE:3
DTSTAMP:20260421T233234Z
URL:https://business.nocchamber.com/events/details/networking-event-bbq-and-beer-at-anaheim-packing-district-21326
END:VEVENT

END:VCALENDAR
